BEGIN:VCALENDAR
VERSION:2.0
PRODID:-//OSL - ECPv6.15.4//NONSGML v1.0//EN
CALSCALE:GREGORIAN
METHOD:PUBLISH
X-WR-CALNAME:OSL
X-ORIGINAL-URL:https://www.osltoday.org
X-WR-CALDESC:Events for OSL
REFRESH-INTERVAL;VALUE=DURATION:PT1H
X-Robots-Tag:noindex
X-PUBLISHED-TTL:PT1H
BEGIN:VTIMEZONE
TZID:America/Chicago
BEGIN:DAYLIGHT
TZOFFSETFROM:-0600
TZOFFSETTO:-0500
TZNAME:CDT
DTSTART:20210314T080000
END:DAYLIGHT
BEGIN:STANDARD
TZOFFSETFROM:-0500
TZOFFSETTO:-0600
TZNAME:CST
DTSTART:20211107T070000
END:STANDARD
END:VTIMEZONE
BEGIN:VEVENT
DTSTART;TZID=America/Chicago:20211028T103000
DTEND;TZID=America/Chicago:20211028T120000
DTSTAMP:20260424T005054
CREATED:20210923T153056Z
LAST-MODIFIED:20210923T153056Z
UID:3989-1635417000-1635422400@www.osltoday.org
SUMMARY:Spiritual Gifts that Heal Online Class
DESCRIPTION:A New Facebook Live Course\nby The Rev Joseph K. Acton\, North American Director\, OSL \nHave you ever wanted to see how your spiritual gifts can deeply heal the brokenness of others? Come and learn how to recognize and be activated in spiritual gifts. Discover the joy of Spiritual Gifts healing others. \nThis course will be taught live on Facebook.com/OSLToday Thursday mornings at 10:30AM (PT)\, beginning October 28th
URL:https://www.osltoday.org/event/spiritual-gifts-that-heal-online-class/
LOCATION:www.Facebook.com/OSLToday/Live
ORGANIZER;CN="Rev. Josh Acton":MAILTO:oslnad@osltoday.org
END:VEVENT
END:VCALENDAR