BEGIN:VCALENDAR
VERSION:2.0
PRODID:-//OSL - ECPv6.15.4//NONSGML v1.0//EN
CALSCALE:GREGORIAN
METHOD:PUBLISH
X-ORIGINAL-URL:https://www.osltoday.org
X-WR-CALDESC:Events for OSL
REFRESH-INTERVAL;VALUE=DURATION:PT1H
X-Robots-Tag:noindex
X-PUBLISHED-TTL:PT1H
BEGIN:VTIMEZONE
TZID:America/Chicago
BEGIN:DAYLIGHT
TZOFFSETFROM:-0600
TZOFFSETTO:-0500
TZNAME:CDT
DTSTART:20210314T080000
END:DAYLIGHT
BEGIN:STANDARD
TZOFFSETFROM:-0500
TZOFFSETTO:-0600
TZNAME:CST
DTSTART:20211107T070000
END:STANDARD
END:VTIMEZONE
BEGIN:VEVENT
DTSTART;TZID=America/Chicago:20211112T190000
DTEND;TZID=America/Chicago:20211113T160000
DTSTAMP:20260423T232655
CREATED:20210922T174339Z
LAST-MODIFIED:20211103T144907Z
UID:3978-1636743600-1636819200@www.osltoday.org
SUMMARY:Region 3 Zoom Conference\, Empowering the Saints
DESCRIPTION:Greetings in the Name of our Lord and Savior Jesus Christ! \nMay God bless you with joy\, peace\, and love. \nRegion 3 Zoom Conference\, Empowering the Saints\nFriday\, November 12\, 2021 and Saturday\, November 13\, 2021 \nFeaturing Rev. Josh Acton\, North American Director and OSL Speakers: Dr. Elizabeth Allen\, Pastor Sharon Lewis\, Linda Miller\, Pastor Brian Miller\, Rev. John Rice\, Dr. Mike Sabback \nJoin us by zoom for a time of teaching and impartation by some wonderful OSL speakers. \nFriday\, November 12th:\n7:00-9:00 Rev. Josh Acton and Dr. Elizabeth Allen \nSaturday\, November 13th:\n9:30-12:00 Rev. John Rice and Linda Miller\n1:00-4:00 Dr. Mike Sabback\, Pastor Brian Miller\, and Pastor Sharon Lewis \nTo register\, contact: Ditsie Scobie\, ditsiesco@gmail.com \nThe cost is a donation of any amount to Region 3 for a blessing to the speakers\, either by check made out to Region 3 and mailed to Ditsie Scobie\, 190 Florida Blvd.\, Merritt Island\, Fl 32953 or PayPal by clicking here.
URL:https://www.osltoday.org/event/region-3-zoom-conference/
LOCATION:Virtual
ORGANIZER;CN="Ditsie Scobie":MAILTO:ditsiesco@gmail.com
END:VEVENT
END:VCALENDAR