BEGIN:VCALENDAR
VERSION:2.0
PRODID:-//OSL - ECPv6.15.4//NONSGML v1.0//EN
CALSCALE:GREGORIAN
METHOD:PUBLISH
X-WR-CALNAME:OSL
X-ORIGINAL-URL:https://www.osltoday.org
X-WR-CALDESC:Events for OSL
REFRESH-INTERVAL;VALUE=DURATION:PT1H
X-Robots-Tag:noindex
X-PUBLISHED-TTL:PT1H
BEGIN:VTIMEZONE
TZID:America/Chicago
BEGIN:DAYLIGHT
TZOFFSETFROM:-0600
TZOFFSETTO:-0500
TZNAME:CDT
DTSTART:20220313T080000
END:DAYLIGHT
BEGIN:STANDARD
TZOFFSETFROM:-0500
TZOFFSETTO:-0600
TZNAME:CST
DTSTART:20221106T070000
END:STANDARD
END:VTIMEZONE
BEGIN:VEVENT
DTSTART;TZID=America/Chicago:20220409T090000
DTEND;TZID=America/Chicago:20220409T120000
DTSTAMP:20260423T165431
CREATED:20220128T194905Z
LAST-MODIFIED:20220128T194905Z
UID:4235-1649494800-1649505600@www.osltoday.org
SUMMARY:Shenandoah Region OSL Healing Community
DESCRIPTION:Care for the Caregiver – How to nourish yourself when you are caring for another \nLocation:\nOur Health\n329 N Cameron Street\, STE 200\nWinchester\, VA 22601 \nContact:\nBarbara Zimmerman\n703-999-2217\nzbarbara93@yahoo.com
URL:https://www.osltoday.org/event/shenandoah-region-osl-healing-community/
LOCATION:Our Health\, 329 N Cameron St.\, STE 200\, Winchester\, VA\, 22601\, United States
ORGANIZER;CN="Barbara Zimmerman":MAILTO:zbarbara93@yahoo.com
END:VEVENT
END:VCALENDAR