BEGIN:VCALENDAR
VERSION:2.0
PRODID:-//OSL - ECPv6.15.4//NONSGML v1.0//EN
CALSCALE:GREGORIAN
METHOD:PUBLISH
X-WR-CALNAME:OSL
X-ORIGINAL-URL:https://www.osltoday.org
X-WR-CALDESC:Events for OSL
REFRESH-INTERVAL;VALUE=DURATION:PT1H
X-Robots-Tag:noindex
X-PUBLISHED-TTL:PT1H
BEGIN:VTIMEZONE
TZID:America/Chicago
BEGIN:DAYLIGHT
TZOFFSETFROM:-0600
TZOFFSETTO:-0500
TZNAME:CDT
DTSTART:20220313T080000
END:DAYLIGHT
BEGIN:STANDARD
TZOFFSETFROM:-0500
TZOFFSETTO:-0600
TZNAME:CST
DTSTART:20221106T070000
END:STANDARD
END:VTIMEZONE
BEGIN:VEVENT
DTSTART;TZID=America/Chicago:20220429T190000
DTEND;TZID=America/Chicago:20220429T210000
DTSTAMP:20260423T153646
CREATED:20220406T172420Z
LAST-MODIFIED:20220503T143420Z
UID:4413-1651258800-1651266000@www.osltoday.org
SUMMARY:A Night of Fellowship and Prayer
DESCRIPTION:OSL Charleston invites you to\nA Night of Fellowship and Prayer \nFriday April 29\, 2022 7 PM ET on Zoom and Live at \nCrosstowne Church\, Charleston\n1941 Bees Ferry Rd Charleston 29414 \nFeaturing \nPastor Danny Dyer\, Country Director\, OSL Honduras \nTo register contact OSL Charleston (osl@oslcharleston.com)
URL:https://www.osltoday.org/event/a-night-of-fellowship-and-prayer/
LOCATION:Online Conference via Zoom
ORGANIZER;CN="OSL Charleston":MAILTO:osl@oslcharleston.com
END:VEVENT
END:VCALENDAR