BEGIN:VCALENDAR
VERSION:2.0
PRODID:-//OSL - ECPv6.15.4//NONSGML v1.0//EN
CALSCALE:GREGORIAN
METHOD:PUBLISH
X-WR-CALNAME:OSL
X-ORIGINAL-URL:https://www.osltoday.org
X-WR-CALDESC:Events for OSL
REFRESH-INTERVAL;VALUE=DURATION:PT1H
X-Robots-Tag:noindex
X-PUBLISHED-TTL:PT1H
BEGIN:VTIMEZONE
TZID:America/Chicago
BEGIN:DAYLIGHT
TZOFFSETFROM:-0600
TZOFFSETTO:-0500
TZNAME:CDT
DTSTART:20220313T080000
END:DAYLIGHT
BEGIN:STANDARD
TZOFFSETFROM:-0500
TZOFFSETTO:-0600
TZNAME:CST
DTSTART:20221106T070000
END:STANDARD
END:VTIMEZONE
BEGIN:VEVENT
DTSTART;TZID=America/Chicago:20220917T093000
DTEND;TZID=America/Chicago:20220917T160000
DTSTAMP:20260423T093843
CREATED:20220630T154105Z
LAST-MODIFIED:20220630T154105Z
UID:4683-1663407000-1663430400@www.osltoday.org
SUMMARY:Rekindle Us!
DESCRIPTION:Catch the fire of the Spirit! Join us for an uplifting day with Rev. Josh Acton\, North American Director of the OSL. \nAt this healing conference\, offered by the Order of St. Luke (OSL)\, expect to be inspired\, uplifted\, and activated by the message of Fr. Josh Acton\, OSL North American Director. Invite friends who are in need of healing\, or who are inspired to see how the Holy Spirit can work in their lives to heal the sick. \nRegistration/Fellowship 9:30 am \nConference begins at 10:00 am \nA boxed lunch will be served. Worship/Teaching/Inductions/Individual Prayer Ministry continue until approximately 4pm \n— \nOnline Registration: $30 until Sept 16 at 10 am CST. \nRegistration at door: $35 check or cash. \nAdmission includes a boxed lunch from Jason’s Deli. \nInvite friends!
URL:https://www.osltoday.org/event/rekindle-us/
LOCATION:St. Vincent’s Cathedral Anglican Church\, 1300 Forest Ridge Drive\, Bedford\, 76022\, United States
ORGANIZER;CN="Jackie Doss":MAILTO:jackiedoss@live.com
END:VEVENT
END:VCALENDAR