BEGIN:VCALENDAR
VERSION:2.0
PRODID:-//OSL - ECPv6.15.4//NONSGML v1.0//EN
CALSCALE:GREGORIAN
METHOD:PUBLISH
X-ORIGINAL-URL:https://www.osltoday.org
X-WR-CALDESC:Events for OSL
REFRESH-INTERVAL;VALUE=DURATION:PT1H
X-Robots-Tag:noindex
X-PUBLISHED-TTL:PT1H
BEGIN:VTIMEZONE
TZID:America/Chicago
BEGIN:DAYLIGHT
TZOFFSETFROM:-0600
TZOFFSETTO:-0500
TZNAME:CDT
DTSTART:20220313T080000
END:DAYLIGHT
BEGIN:STANDARD
TZOFFSETFROM:-0500
TZOFFSETTO:-0600
TZNAME:CST
DTSTART:20221106T070000
END:STANDARD
END:VTIMEZONE
BEGIN:VEVENT
DTSTART;TZID=America/Chicago:20220923T130000
DTEND;TZID=America/Chicago:20220925T120000
DTSTAMP:20260423T093859
CREATED:20220407T144821Z
LAST-MODIFIED:20220407T144821Z
UID:4419-1663938000-1664107200@www.osltoday.org
SUMMARY:Healing Winds 2022
DESCRIPTION:Speaker:\nJudith MacNutt\n\nLocation:\nLake Junaluska Conference and Retreat Center\n941 N Lakeshore Drive\nWaynesville\, NC 28758\n\nContacts:\nArt Mack\, (828 )697-7604\, mackar4264@yahoo.com\nKay Covode\, (828) 389-8384\, skbcovode@hotmail.com\n\nDetails:\nRegistration opens June 1st at healingwindsosl.org
URL:https://www.osltoday.org/event/healing-winds-2022/
LOCATION:Lake Junaluska Conference and Retreat Center\, 91 N Lakeshore Drive\, Waynesville\, NC\, 28785\, United States
ORGANIZER;CN="Art Mack":MAILTO:mackar4264@yahoo.com
END:VEVENT
END:VCALENDAR