BEGIN:VCALENDAR
VERSION:2.0
PRODID:-//OSL - ECPv6.15.4//NONSGML v1.0//EN
CALSCALE:GREGORIAN
METHOD:PUBLISH
X-WR-CALNAME:OSL
X-ORIGINAL-URL:https://www.osltoday.org
X-WR-CALDESC:Events for OSL
REFRESH-INTERVAL;VALUE=DURATION:PT1H
X-Robots-Tag:noindex
X-PUBLISHED-TTL:PT1H
BEGIN:VTIMEZONE
TZID:America/Chicago
BEGIN:DAYLIGHT
TZOFFSETFROM:-0600
TZOFFSETTO:-0500
TZNAME:CDT
DTSTART:20220313T080000
END:DAYLIGHT
BEGIN:STANDARD
TZOFFSETFROM:-0500
TZOFFSETTO:-0600
TZNAME:CST
DTSTART:20221106T070000
END:STANDARD
END:VTIMEZONE
BEGIN:VEVENT
DTSTART;TZID=America/Chicago:20221001T100000
DTEND;TZID=America/Chicago:20221002T170000
DTSTAMP:20260423T075819
CREATED:20220913T202130Z
LAST-MODIFIED:20220913T202130Z
UID:4856-1664618400-1664730000@www.osltoday.org
SUMMARY:OSL Healing Conference
DESCRIPTION:“Good Health\, Good Soul”\nA Conference on Healing \nOctober 1 & 2\, 2022 \nWhy Come to the Conference?\n• Connect with others on the journey of faith\n• Share your doubts\, your questions\, and your experiences\n• Grow your faith and deepen your spirituality\n• If you choose\, receive healing prayer\n• Hear stories of healing\n• Laugh\, enjoy good food\, and fellowship \nYouth and intergenerational session on Saturday at 1 pm \nConference Speaker: The Rev. Dr. Kevin Goodrich\, O.P.\nThe Rev. Dr. Goodrich is a friar under life vows in the Anglican Order of Preachers (aka “The Dominicans”). Father Goodrich is known for his sense of humor\, engaging preaching style\, and ability to relate spiritual concepts to the everyday challenges of life. He has served congregations in Canada and the United States. A spiritual director and theologian\, Fr. Goodrich is interested in how healing prayer and work in the Church is connected to ancient and modern understandings of spirituality. \nHe is the author of several books\, including\, Mystic Bonfires: Walter Hilton and the Development of Practical Spiritual Theology” For fun he enjoys a good laugh\, good music\, and a good hike. \nHost: St. Mary’s Anglican Church\n1st St. & Louise Ave.\, Brandon\, MB| \nFOR MORE INFORMATION AND TO REGISTER PHONE: 204-727-3393 OR EMAIL: smbdn1@mymts.net\nMembership in the Anglican Church or OSL is not Required. ALL ARE WELCOME!
URL:https://www.osltoday.org/event/osl-healing-conference/
LOCATION:St. Mary’s Anglican Church\, 1st Street & Louise Avenue\, Brandon\, Manitoba\, Canada
ORGANIZER;CN="smbdn1@mymts.net":MAILTO:smbdn1@mymts.net
END:VEVENT
END:VCALENDAR