BEGIN:VCALENDAR
VERSION:2.0
PRODID:-//OSL - ECPv6.15.4//NONSGML v1.0//EN
CALSCALE:GREGORIAN
METHOD:PUBLISH
X-ORIGINAL-URL:https://www.osltoday.org
X-WR-CALDESC:Events for OSL
REFRESH-INTERVAL;VALUE=DURATION:PT1H
X-Robots-Tag:noindex
X-PUBLISHED-TTL:PT1H
BEGIN:VTIMEZONE
TZID:America/Chicago
BEGIN:DAYLIGHT
TZOFFSETFROM:-0600
TZOFFSETTO:-0500
TZNAME:CDT
DTSTART:20220313T080000
END:DAYLIGHT
BEGIN:STANDARD
TZOFFSETFROM:-0500
TZOFFSETTO:-0600
TZNAME:CST
DTSTART:20221106T070000
END:STANDARD
END:VTIMEZONE
BEGIN:VEVENT
DTSTART;TZID=America/Chicago:20221007T113000
DTEND;TZID=America/Chicago:20221008T150000
DTSTAMP:20260423T075944
CREATED:20220602T154609Z
LAST-MODIFIED:20220706T173131Z
UID:4619-1665142200-1665241200@www.osltoday.org
SUMMARY:Region 11 Retreat
DESCRIPTION:October 7th\, 11:30AM – 8:00pm\nOctober 8th\, 9:00AM – 3:00PM \nSt. John’s Episcopal Church 1513 Pinewood Lane\, New London\, Wisconsin \nRetreat Director:\nRev. John Rice\, director of The Blessing Place of Western North Carolina \nTheme: “Hearing the Voice of the Shepard Region 11 Retreat”\nHow are we called to bless others and receive healing? \nContact Info: Janice Peskie at oslregion11@yahoo.com. Registration for this live event includes all presentations and meals $45 when received by September 1 or $55 after. Presentations (minus group sharing) will also be available via Facebook live.
URL:https://www.osltoday.org/event/region-11-retreat/
LOCATION:St. John’s Episcopal Church\, 1513 Pinewood Lane\, New London\, WI\, 54961\, United States
END:VEVENT
END:VCALENDAR