BEGIN:VCALENDAR
VERSION:2.0
PRODID:-//OSL - ECPv6.15.4//NONSGML v1.0//EN
CALSCALE:GREGORIAN
METHOD:PUBLISH
X-ORIGINAL-URL:https://www.osltoday.org
X-WR-CALDESC:Events for OSL
REFRESH-INTERVAL;VALUE=DURATION:PT1H
X-Robots-Tag:noindex
X-PUBLISHED-TTL:PT1H
BEGIN:VTIMEZONE
TZID:America/Chicago
BEGIN:DAYLIGHT
TZOFFSETFROM:-0600
TZOFFSETTO:-0500
TZNAME:CDT
DTSTART:20220313T080000
END:DAYLIGHT
BEGIN:STANDARD
TZOFFSETFROM:-0500
TZOFFSETTO:-0600
TZNAME:CST
DTSTART:20221106T070000
END:STANDARD
END:VTIMEZONE
BEGIN:VEVENT
DTSTART;TZID=America/Chicago:20221012T100000
DTEND;TZID=America/Chicago:20221014T170000
DTSTAMP:20260423T075941
CREATED:20220602T152726Z
LAST-MODIFIED:20220829T161408Z
UID:4609-1665568800-1665766800@www.osltoday.org
SUMMARY:OSL Region 2 Quiet Walk
DESCRIPTION:October 12–14\, 2022 \nSpiritual Director\, Josh Acton \nTopic: Open the Eyes of My Heart\nEphesians 1:18
URL:https://www.osltoday.org/event/osl-region-2-quiet-walk/
LOCATION:Tuscarora Inn & Conference Center\, 3300 River Road\, Mt. Bethel\, PA\, 18343\, United States
END:VEVENT
END:VCALENDAR