BEGIN:VCALENDAR
VERSION:2.0
PRODID:-//OSL - ECPv6.15.4//NONSGML v1.0//EN
CALSCALE:GREGORIAN
METHOD:PUBLISH
X-WR-CALNAME:OSL
X-ORIGINAL-URL:https://www.osltoday.org
X-WR-CALDESC:Events for OSL
REFRESH-INTERVAL;VALUE=DURATION:PT1H
X-Robots-Tag:noindex
X-PUBLISHED-TTL:PT1H
BEGIN:VTIMEZONE
TZID:America/Chicago
BEGIN:DAYLIGHT
TZOFFSETFROM:-0600
TZOFFSETTO:-0500
TZNAME:CDT
DTSTART:20230312T080000
END:DAYLIGHT
BEGIN:STANDARD
TZOFFSETFROM:-0500
TZOFFSETTO:-0600
TZNAME:CST
DTSTART:20231105T070000
END:STANDARD
END:VTIMEZONE
BEGIN:VEVENT
DTSTART;TZID=America/Chicago:20230330T080000
DTEND;TZID=America/Chicago:20230330T170000
DTSTAMP:20260421T050029
CREATED:20230330T164401Z
LAST-MODIFIED:20230330T164434Z
UID:5275-1680163200-1680195600@www.osltoday.org
SUMMARY:Healing Winds Conference
DESCRIPTION:Speaker: Rev. Dr. Russ Parker \nLake Junaluska Conference & Retreat Center\nWaynesville\, NC \nSept 29-Oct 1\, 2023\nRegistration Opens June 1 \nFor Information on Registration Instructions\, Dr. Parker\, Schedule\, and Workshops go to\nHealing Winds website at https://healingwindsosl.org \nor contact:\nArt Mack (828) 697-7604\nmackar4264@yahoo.com \nKay Covode (828) 389-8384\nsxbcovode@hotmail.com
URL:https://www.osltoday.org/event/healing-winds-conference/
LOCATION:FL
ORGANIZER;CN="Art Mack":MAILTO:mackar4264@yahoo.com
END:VEVENT
END:VCALENDAR