BEGIN:VCALENDAR
VERSION:2.0
PRODID:-//OSL - ECPv6.15.4//NONSGML v1.0//EN
CALSCALE:GREGORIAN
METHOD:PUBLISH
X-ORIGINAL-URL:https://www.osltoday.org
X-WR-CALDESC:Events for OSL
REFRESH-INTERVAL;VALUE=DURATION:PT1H
X-Robots-Tag:noindex
X-PUBLISHED-TTL:PT1H
BEGIN:VTIMEZONE
TZID:America/Chicago
BEGIN:DAYLIGHT
TZOFFSETFROM:-0600
TZOFFSETTO:-0500
TZNAME:CDT
DTSTART:20230312T080000
END:DAYLIGHT
BEGIN:STANDARD
TZOFFSETFROM:-0500
TZOFFSETTO:-0600
TZNAME:CST
DTSTART:20231105T070000
END:STANDARD
END:VTIMEZONE
BEGIN:VEVENT
DTSTART;TZID=America/Chicago:20230421T173000
DTEND;TZID=America/Chicago:20230423T113000
DTSTAMP:20260421T050120
CREATED:20221210T000507Z
LAST-MODIFIED:20230303T184103Z
UID:5036-1682098200-1682249400@www.osltoday.org
SUMMARY:Rekindle Retreat with The Blessing Place\, NC
DESCRIPTION:Rekindle Retreat\n“becoming healing disciples of Jesus” \n April 21-23\, 2023\nCo-sponsored by OSL and The Blessing Place of Western North Carolina\nKeynote speakers Rev. Josh Acton and Rev. John Rice \nHigh Pastures Retreat Center\nhttps://www.highpastures.org/\n290 Kings Highway\, Burnsville\, NC 28714\n(Fly into AVL – Asheville\, North Carolina airport) \nRegistration is now open!\n$75 – In-Person attendance registration fee (meals & lodging paid separately)\n$30 – Zoom attendance registration fee \nZoom Attendees:\nPlease plan to attend the entire event.  This will be a personal and interactive Zoom retreat\, with talks by the keynote speakers as well as discussion and prayer time in small groups.  This retreat is about experiencing time with Jesus and time with each other in the present moment.  If you are unable to commit to the weekend retreat at this time\, then please look forward to the next online Rekindle Retreat. \nZoom Schedule:  (all times are in Eastern)\nFriday 6:30-9:00pm EDT\nSaturday 9am-12pm\, 1-2pm\, 4-5pm\, 7-9pm EDT\nSunday 9:30-11:30am EDT \nSessions include worship\, keynote speaker talks\, and small group fellowship and prayer time.\nThis is preliminary schedule\, and it may change slightly.  The final schedule will be emailed to you before the event.   \nIn Person Schedule:\nFriday evening 6:30pm – 9:00pm EDT (with dinner at 5:30pm)\nSaturday 9:00am – 9:00pm EDT (with breakfast at 8:00am)\nSunday morning 9:30am – 11:30am EDT (with breakfast at 8:00am) \nRegister Today!\nhttps://www.theblessingplacewnc.org/form/10135\nPlease see the registration page for more details.\nSpaces are limited.  Register today! \nJoin Rev. Josh Acton and Rev. John Rice for this retreat time away to go deeper in your walk with Christ.  This is the first Rekindle Retreat\, and it is unique in that it will be available as a hybrid event\, both in-person and online.  During this discipleship retreat\, there will be time for silence and prayer as well as small group fellowship and prayer.  Grow as a disciple of Jesus as we explore various topics of discipleship\, such as spiritual disciplines\, the power of intercession\, hearing from God\, and sharing the message of the Gospel.  We will spend time listening to the Lord to see how He may be calling us each to individually and collectively engage in the world and in the healing ministry as we go forth from this retreat. \n \n  \n  \n  \n  \n  \n  \n  \n  \n  \n  \nThis is the first Rekindle Retreat\, but there will be more offered in various locations and formats throughout the year.  Please stay tuned for additional dates and locations. \n“Why Rekindle Retreats?” – please visit https://osltoday.org/rekindleretreats/. \nUpcoming event: June 2-3\, 2023\nOnline Rekindle Retreat Hosted by OSL Jamaica\nCurrently available to International attendees\nhttps://osltoday.org/event/rekindle-retreat-online-for-international-members/\n \nQuestions about the Rekindle Retreats?\nEmail Laura Sinclair at nadoffice@osltoday.org \nRegistration Questions?\nEmail Brenda Pagan at bp-registrar@hotmail.com \n 
URL:https://www.osltoday.org/event/rekindle-retreats/
LOCATION:High Pastures Retreat Center\, 290 Kings Highway\, Burnsville\, 28714
ORGANIZER;CN="Brenda Pagan":MAILTO:bp-registrar@hotmail.com
END:VEVENT
END:VCALENDAR