BEGIN:VCALENDAR
VERSION:2.0
PRODID:-//OSL - ECPv6.15.4//NONSGML v1.0//EN
CALSCALE:GREGORIAN
METHOD:PUBLISH
X-WR-CALNAME:OSL
X-ORIGINAL-URL:https://www.osltoday.org
X-WR-CALDESC:Events for OSL
REFRESH-INTERVAL;VALUE=DURATION:PT1H
X-Robots-Tag:noindex
X-PUBLISHED-TTL:PT1H
BEGIN:VTIMEZONE
TZID:America/Chicago
BEGIN:DAYLIGHT
TZOFFSETFROM:-0600
TZOFFSETTO:-0500
TZNAME:CDT
DTSTART:20230312T080000
END:DAYLIGHT
BEGIN:STANDARD
TZOFFSETFROM:-0500
TZOFFSETTO:-0600
TZNAME:CST
DTSTART:20231105T070000
END:STANDARD
END:VTIMEZONE
BEGIN:VEVENT
DTSTART;TZID=America/Chicago:20230505T170000
DTEND;TZID=America/Chicago:20230507T120000
DTSTAMP:20260421T033139
CREATED:20230412T211439Z
LAST-MODIFIED:20230412T211955Z
UID:5308-1683306000-1683460800@www.osltoday.org
SUMMARY:OSL Spirit Breakout Conference
DESCRIPTION:OSL Spirit Breakout Conference \nMay 5-7\, 2023\nSpeaker: Rev. Josh Acton \nAll Saint’s Episcopal Church\n155 Clark Street\nEnterprise\, Florida 32725 \nMay 5: Evening session 5pm\nLight finger foods\, Check in\, Worship. Intro/teaching. Soaking prayer. \nMay 6: Morning session 8-9am\, End 4-5pm\, lunch 12-1pm\nBreakfast then on into day of teaching\, OSL induction\, worship and Holy Spirit Breakout! \nMay 7: 10 am\nAny that want to attend our church service can. \nI know the Lord has great plans for this little church that is tucked away and seeped in tradition. It has been prophesied\, The Roof is going to raise off of this place! \nFor more information\, contact Nissha Erdman 386.748.4604 or The Rev. Robin Morical 386.444.5093
URL:https://www.osltoday.org/event/osl-spirit-breakout-conference/
LOCATION:All Saint’s Episcopal Church – Enterprise\, 155 Clark Street\, Enterprise\, FL\, 32725\, United States
ORGANIZER;CN="Nissha Erdman":MAILTO:njoerdman@yahoo.com
END:VEVENT
END:VCALENDAR