BEGIN:VCALENDAR
VERSION:2.0
PRODID:-//OSL - ECPv6.15.4//NONSGML v1.0//EN
CALSCALE:GREGORIAN
METHOD:PUBLISH
X-ORIGINAL-URL:https://www.osltoday.org
X-WR-CALDESC:Events for OSL
REFRESH-INTERVAL;VALUE=DURATION:PT1H
X-Robots-Tag:noindex
X-PUBLISHED-TTL:PT1H
BEGIN:VTIMEZONE
TZID:America/Chicago
BEGIN:DAYLIGHT
TZOFFSETFROM:-0600
TZOFFSETTO:-0500
TZNAME:CDT
DTSTART:20230312T080000
END:DAYLIGHT
BEGIN:STANDARD
TZOFFSETFROM:-0500
TZOFFSETTO:-0600
TZNAME:CST
DTSTART:20231105T070000
END:STANDARD
END:VTIMEZONE
BEGIN:VEVENT
DTSTART;TZID=America/Chicago:20230516T080000
DTEND;TZID=America/Chicago:20230519T170000
DTSTAMP:20260421T033337
CREATED:20230119T170502Z
LAST-MODIFIED:20230307T154833Z
UID:5103-1684224000-1684515600@www.osltoday.org
SUMMARY:OSL Region 2 Spring Conference
DESCRIPTION:OSL REGION 2 Spring Conference\nListening: The Heart of Christian Healing Prayer \nThis non-denominational conference will bring together Christians and seekers from across many states of the Northeast! \nThis conference is for anyone who is interested in: \n\nLearning about the gifts of the Holy Spirit\,\nTraining\, Doing\, Receiving Christian healing prayer\,\nExperiencing how our relationship with Holy Spirit also deepens our personal relationship with Jesus Christ.\n\nWe have a NEW location In Bedford\, PA that is both awesome and within 2-2.5 hours drive for most of OSL Region 2! (NY\, PA\, NJ\, VA\, MD\, WV). \nWhite Sulfur Springs Christian Conference center in the mountains of Pennsylvania! \nwww.whitesulphursprings.org/ \nClick here for more information and to register.
URL:https://www.osltoday.org/event/save-the-date-region-2-christian-healing-conference/
LOCATION:White Sulphur Springs\, 4500 Milligans Cove Road\, Manns Choice\, PA\, 15550\, United States
END:VEVENT
END:VCALENDAR