BEGIN:VCALENDAR
VERSION:2.0
PRODID:-//OSL - ECPv6.15.4//NONSGML v1.0//EN
CALSCALE:GREGORIAN
METHOD:PUBLISH
X-WR-CALNAME:OSL
X-ORIGINAL-URL:https://www.osltoday.org
X-WR-CALDESC:Events for OSL
REFRESH-INTERVAL;VALUE=DURATION:PT1H
X-Robots-Tag:noindex
X-PUBLISHED-TTL:PT1H
BEGIN:VTIMEZONE
TZID:America/Chicago
BEGIN:DAYLIGHT
TZOFFSETFROM:-0600
TZOFFSETTO:-0500
TZNAME:CDT
DTSTART:20230312T080000
END:DAYLIGHT
BEGIN:STANDARD
TZOFFSETFROM:-0500
TZOFFSETTO:-0600
TZNAME:CST
DTSTART:20231105T070000
END:STANDARD
END:VTIMEZONE
BEGIN:VEVENT
DTSTART;TZID=America/Chicago:20230804T173000
DTEND;TZID=America/Chicago:20230804T210000
DTSTAMP:20260420T230219
CREATED:20230627T175023Z
LAST-MODIFIED:20230627T175023Z
UID:5668-1691170200-1691182800@www.osltoday.org
SUMMARY:Summer Celebration\, Fellowship and Prayer Night
DESCRIPTION:OSL Charleston invites you to our annual Summer Celebration\, Fellowship and Prayer Night \nFriday\, August 4\, 2023\, 7PM ET (Zoom)\n5:30 pm in person potluck dinner and fellowship \nOn Zoom\nAnd in person at Crosstowne Church\n1941 Bees Ferry Rd\, Charleston\, SC 29414 \nPraise and Worship (with old time Gospel sing along)\,  Teaching and Testimony\, Small Group Prayer and Fellowship \nTo register contact:  Mike Sabback (mss9326@aol.com) or osl@oslcharleston.com
URL:https://www.osltoday.org/event/summer-celebration-fellowship-and-prayer-night/
LOCATION:Zoom
ORGANIZER;CN="Mike Sabback":MAILTO:mss9326@aol.com
END:VEVENT
END:VCALENDAR