BEGIN:VCALENDAR
VERSION:2.0
PRODID:-//OSL - ECPv6.15.4//NONSGML v1.0//EN
CALSCALE:GREGORIAN
METHOD:PUBLISH
X-ORIGINAL-URL:https://www.osltoday.org
X-WR-CALDESC:Events for OSL
REFRESH-INTERVAL;VALUE=DURATION:PT1H
X-Robots-Tag:noindex
X-PUBLISHED-TTL:PT1H
BEGIN:VTIMEZONE
TZID:America/Los_Angeles
BEGIN:DAYLIGHT
TZOFFSETFROM:-0800
TZOFFSETTO:-0700
TZNAME:PDT
DTSTART:20230312T100000
END:DAYLIGHT
BEGIN:STANDARD
TZOFFSETFROM:-0700
TZOFFSETTO:-0800
TZNAME:PST
DTSTART:20231105T090000
END:STANDARD
END:VTIMEZONE
BEGIN:VEVENT
DTSTART;TZID=America/Los_Angeles:20230915T173000
DTEND;TZID=America/Los_Angeles:20230917T120000
DTSTAMP:20260420T213855
CREATED:20230511T153844Z
LAST-MODIFIED:20230720T190825Z
UID:5410-1694799000-1694952000@www.osltoday.org
SUMMARY:Rekindle Retreat in Bellingham\, Washington
DESCRIPTION:Rekindle Retreat\n“becoming healing disciples of Jesus” \nSept 15-17\, 2023 \nIn-Person Rekindle Retreat\nBellingham\, Washington\nwith Rev. Josh Acton \n  \n  \n  \nClick here to register.\nClick here to download the retreat flyer. \nRekindle Retreat Testimonials: \n“People received tremendous healings.  The Holy Spirit was so on fire.” \n“We grew SO MUCH from the prayer experience with the group during the weekend.” \nYou won’t want to miss these Holy Spirit-filled weekends! \n  \nThe Firs Retreat Center\n4605 Cable St.\nBellingham\, WA 98229\nhttps://www.thefirs.org/retreat \n  \nFly into BLI – Bellingham International airport\, then a 30 min. drive\nOR fly into SEA – Seattle\, WA airport\, then a 3-hour drive north (there is usually traffic) \n  \nSchedule:   \nFriday evening 5:30pm – 9:00pm PT (with dinner at 6:00pm)\nSaturday 9:00am – 9:00pm PT (with breakfast at 8:30am)\nSunday morning 9:00am – 12:00pm PT (with breakfast at 8:30am) \n(On Friday afternoon\, check in is from 4:00-5:00\, the program begins at 5:30 in the meeting room\, with dinner at 6:00.) \nThe weekend will be a series of talks followed by small group time for discussion\, fellowship\, and prayer.  There will be specific times set aside to pray for one another in small groups as well as times of silence for individual prayer and reflection. \nOn Saturday afternoon\, there will be an opportunity to go down to the lakefront to kayak\, swim\, or to simply enjoy the scenery.  Additional options include journaling\, walking\, and napping.  This is a time to enjoy being with the Lord and being in His creation. \n \n  \n  \n  \n  \n  \n  \n  \n  \n  \n  \nRetreat Fees: \n$99 Registration Fee\n$76 for all meals for the weekend\n\n  \nThe registration fee includes meals for the weekend\, but not lodging.  This basic option ($175 combined registration fee and meals) may be suitable for participants who can commute.  All registrations include 5 meals (dinner Friday\, 3 meals Saturday\, and breakfast Sunday).  No refunds for missed meals.  If you have food allergies or dietary restriction\, please let us know upon registration.\n\n  \nLodging Options:\n$145 – Double Occupancy Room; 2 nights; per person price\n$195 – Single Occupancy Room; 2 nights; per person price\n\nLodging includes 2 nights in a one-room cabin with motel-style accommodations\, generally two queen beds\, and a private bath.  All double occupancy rooms will have two beds.  Linens (towels\, sheets) and toiletries (shampoo\, soap) included.  If you choose shared accommodation\, please supply the name of your desired roommate during registration.\n  \n\n\n\n\nRegister Now! \nClick here to register. \nSpaces are limited! \n\n\n\n\nNotes:   \nNo Refunds. \nBy registering for this event\, I hereby grant OSL and The Firs Retreat Center permission to use my likeness in a photograph\, video\, or other digital media (“photo”) in any and all of its publications\, including web-based publications\, without payment or other consideration.   \nMobility:  The Firs Retreat Center has a ramp to the main building in which the dining room and meeting room are located.  The cabins are all within 30-40 yards of the dining hall.  Some cabins have a step or two at their entrance.  If stairs or mobility is a concern\, please let us know upon registration so that you can be assigned to a cabin without any steps. Thank you!   \nBy clicking the registration link above\, you agree to these terms and conditions.  \n\n\n\n \n  \nCaptions:   \nSpeaker Rev. Josh Acton (left) \nHosted by the OSL Pointe of Grace Healing Community (right) \n  \nJoin OSL North American Director Rev. Josh Acton for a time of going deeper in your walk with Christ as you ‘get away’ for the weekend. There will be a series of talks\, followed by small group time for discussion\, fellowship\, and prayer.  In addition\, time is set aside for individual prayer\, journaling\, and listening to the Lord. \nThese discipleship retreats will be offered throughout the year in various locations and are open all\, including OSL members and non-members. Topics will include spiritual disciplines\, the power of intercession\, hearing from God\, and sharing the message of the Gospel.  We will explore how to stay ‘in tune’ with the Lord\, provide structure for moving into the missional part of discipleship\, and offer opportunities to have mentors and be a mentor on the journey.  You won’t want to miss these Holy Spirit-filled weekends! \n——————————————— \nThere will be more Rekindle Retreats offered in various locations and formats throughout the year.  Please visit our main Rekindle Retreat webpage for additional dates and locations\, or to find out more about the retreats:  https://osltoday.org/rekindleretreats/.
URL:https://www.osltoday.org/event/rekindle-retreat-in-bellingham-washington/
LOCATION:The Firs Retreat Center\, 4605 Cable Street\, Bellingham\, WA\, 98229\, United States
ORGANIZER;CN="Laura Sinclair":MAILTO:nadoffice@osltoday.org
END:VEVENT
END:VCALENDAR