BEGIN:VCALENDAR
VERSION:2.0
PRODID:-//OSL - ECPv6.15.4//NONSGML v1.0//EN
CALSCALE:GREGORIAN
METHOD:PUBLISH
X-WR-CALNAME:OSL
X-ORIGINAL-URL:https://www.osltoday.org
X-WR-CALDESC:Events for OSL
REFRESH-INTERVAL;VALUE=DURATION:PT1H
X-Robots-Tag:noindex
X-PUBLISHED-TTL:PT1H
BEGIN:VTIMEZONE
TZID:America/Indiana/Indianapolis
BEGIN:DAYLIGHT
TZOFFSETFROM:-0500
TZOFFSETTO:-0400
TZNAME:EDT
DTSTART:20230312T070000
END:DAYLIGHT
BEGIN:STANDARD
TZOFFSETFROM:-0400
TZOFFSETTO:-0500
TZNAME:EST
DTSTART:20231105T060000
END:STANDARD
END:VTIMEZONE
BEGIN:VEVENT
DTSTART;TZID=America/Indiana/Indianapolis:20231005T190000
DTEND;TZID=America/Indiana/Indianapolis:20231005T210000
DTSTAMP:20260420T195028
CREATED:20230713T190617Z
LAST-MODIFIED:20230920T193848Z
UID:5686-1696532400-1696539600@www.osltoday.org
SUMMARY:Night of Fellowship and Prayer
DESCRIPTION:OSL Charleston invites you to a Night of Fellowship and Prayer featuring Rev. Josh Acton\, OSL North America Director\, Thursday\, October 5 at 7 PM ET \nOn Zoom and in person at: \nSt Mark UMC Church\n413 Geddis Ave\, Charleston\, SC 29407 \n\nEvent will feature Praise and worship\, keynote talk by Rev. Acton on “The New Wineskins of OSL\,” healing prayer ministry and testimonies.\n\nTo register\, contact Mike Sabback (mss9326@aol.com) or osl@oslcharleston.com
URL:https://www.osltoday.org/event/night-of-fellowship-and-prayer/
LOCATION:Zoom
ORGANIZER;CN="Mike Sabback":MAILTO:mss9326@aol.com
END:VEVENT
END:VCALENDAR