BEGIN:VCALENDAR
VERSION:2.0
PRODID:-//OSL - ECPv6.15.4//NONSGML v1.0//EN
CALSCALE:GREGORIAN
METHOD:PUBLISH
X-WR-CALNAME:OSL
X-ORIGINAL-URL:https://www.osltoday.org
X-WR-CALDESC:Events for OSL
REFRESH-INTERVAL;VALUE=DURATION:PT1H
X-Robots-Tag:noindex
X-PUBLISHED-TTL:PT1H
BEGIN:VTIMEZONE
TZID:America/Chicago
BEGIN:DAYLIGHT
TZOFFSETFROM:-0600
TZOFFSETTO:-0500
TZNAME:CDT
DTSTART:20230312T080000
END:DAYLIGHT
BEGIN:STANDARD
TZOFFSETFROM:-0500
TZOFFSETTO:-0600
TZNAME:CST
DTSTART:20231105T070000
END:STANDARD
END:VTIMEZONE
BEGIN:VEVENT
DTSTART;TZID=America/Chicago:20231006T080000
DTEND;TZID=America/Chicago:20231007T170000
DTSTAMP:20260420T194911
CREATED:20230228T154600Z
LAST-MODIFIED:20230307T155710Z
UID:5201-1696579200-1696698000@www.osltoday.org
SUMMARY:OSL Charleston Fall Healing Conference
DESCRIPTION:Igniting the Fire; Living as Healing Disciples of Jesus \nFriday\, October 6 and Saturday\, October 7\, 2023 \nSeacoast Church\, West Ashley Campus\n2041 Savannah Highway\nCharleston\, SC\, 29407 \nfeaturing Josh Acton\, OSL North America Director \nTo Register: contact Mike Sabback (mss9326@aol.com) or osl@oslcharleston.com
URL:https://www.osltoday.org/event/osl-charleston-fall-healing-conference/
LOCATION:Seacoast Church\, 2041 Savannah Highway\, Charleston\, SC\, 29407\, United States
ORGANIZER;CN="Mike Sabback":MAILTO:mss9326@aol.com
END:VEVENT
END:VCALENDAR