BEGIN:VCALENDAR
VERSION:2.0
PRODID:-//OSL - ECPv6.15.4//NONSGML v1.0//EN
CALSCALE:GREGORIAN
METHOD:PUBLISH
X-WR-CALNAME:OSL
X-ORIGINAL-URL:https://www.osltoday.org
X-WR-CALDESC:Events for OSL
REFRESH-INTERVAL;VALUE=DURATION:PT1H
X-Robots-Tag:noindex
X-PUBLISHED-TTL:PT1H
BEGIN:VTIMEZONE
TZID:America/Chicago
BEGIN:DAYLIGHT
TZOFFSETFROM:-0600
TZOFFSETTO:-0500
TZNAME:CDT
DTSTART:20230312T080000
END:DAYLIGHT
BEGIN:STANDARD
TZOFFSETFROM:-0500
TZOFFSETTO:-0600
TZNAME:CST
DTSTART:20231105T070000
END:STANDARD
END:VTIMEZONE
BEGIN:VEVENT
DTSTART;VALUE=DATE:20231011
DTEND;VALUE=DATE:20231014
DTSTAMP:20260420T195757
CREATED:20230912T164145Z
LAST-MODIFIED:20230912T164544Z
UID:5885-1696982400-1697241599@www.osltoday.org
SUMMARY:Region 2 Annual Quiet Walk with Jesus
DESCRIPTION:Speaker: Dan Brown\, Chaplain\nPittsburgh OSL Community \nTheme:\nThe Still Small Voice: Hearing God Amidst the Whirlwinds of Life \nLocation:\nWhite Sulfur Springs Retreat Center\nManns Choice\, PA
URL:https://www.osltoday.org/event/region-2-annual-quiet-walk-with-jesus/
LOCATION:White Sulphur Springs\, 4500 Milligans Cove Road\, Manns Choice\, PA\, 15550\, United States
ORGANIZER;CN="Vivian Stein":MAILTO:beancounterhelp@outlook.com
END:VEVENT
END:VCALENDAR