BEGIN:VCALENDAR
VERSION:2.0
PRODID:-//OSL - ECPv6.15.4//NONSGML v1.0//EN
CALSCALE:GREGORIAN
METHOD:PUBLISH
X-ORIGINAL-URL:https://www.osltoday.org
X-WR-CALDESC:Events for OSL
REFRESH-INTERVAL;VALUE=DURATION:PT1H
X-Robots-Tag:noindex
X-PUBLISHED-TTL:PT1H
BEGIN:VTIMEZONE
TZID:America/Indiana/Indianapolis
BEGIN:DAYLIGHT
TZOFFSETFROM:-0500
TZOFFSETTO:-0400
TZNAME:EDT
DTSTART:20230312T070000
END:DAYLIGHT
BEGIN:STANDARD
TZOFFSETFROM:-0400
TZOFFSETTO:-0500
TZNAME:EST
DTSTART:20231105T060000
END:STANDARD
END:VTIMEZONE
BEGIN:VEVENT
DTSTART;TZID=America/Indiana/Indianapolis:20231104T110000
DTEND;TZID=America/Indiana/Indianapolis:20231104T130000
DTSTAMP:20260420T183710
CREATED:20230920T194157Z
LAST-MODIFIED:20230920T194157Z
UID:5910-1699095600-1699102800@www.osltoday.org
SUMMARY:A Morning of Soaking and Healing Prayer
DESCRIPTION:OSL Charleston invites you to\nA Morning of Soaking and Healing Prayer \nSat November 4\, 11 AM to 1 PM Eastern Time \nOn Zoom \nJoin us for a morning of Soaking and Healing Prayer \nCome and receive a special touch from Jesus. Event will consist of praise and worship\, teaching\, response time (cross\, candles and communion)\, soaking and individual prayer sessions with  trained prayer ministers. \nTo register or for more information\, contact: Mike Sabback (mss9326@aol.com) or osl@oslcharleston.com
URL:https://www.osltoday.org/event/a-morning-of-soaking-and-healing-prayer-4/
LOCATION:Zoom
ORGANIZER;CN="Mike Sabback":MAILTO:mss9326@aol.com
END:VEVENT
END:VCALENDAR