BEGIN:VCALENDAR
VERSION:2.0
PRODID:-//OSL - ECPv6.15.4//NONSGML v1.0//EN
CALSCALE:GREGORIAN
METHOD:PUBLISH
X-WR-CALNAME:OSL
X-ORIGINAL-URL:https://www.osltoday.org
X-WR-CALDESC:Events for OSL
REFRESH-INTERVAL;VALUE=DURATION:PT1H
X-Robots-Tag:noindex
X-PUBLISHED-TTL:PT1H
BEGIN:VTIMEZONE
TZID:America/Chicago
BEGIN:DAYLIGHT
TZOFFSETFROM:-0600
TZOFFSETTO:-0500
TZNAME:CDT
DTSTART:20230312T080000
END:DAYLIGHT
BEGIN:STANDARD
TZOFFSETFROM:-0500
TZOFFSETTO:-0600
TZNAME:CST
DTSTART:20231105T070000
END:STANDARD
END:VTIMEZONE
BEGIN:VEVENT
DTSTART;TZID=America/Chicago:20231215T190000
DTEND;TZID=America/Chicago:20231215T210000
DTSTAMP:20260420T172015
CREATED:20231024T160617Z
LAST-MODIFIED:20231024T160802Z
UID:6022-1702666800-1702674000@www.osltoday.org
SUMMARY:A Night of Holiday Prayer and Celebration
DESCRIPTION:OSL Charleston invites you to \nA Night of Holiday Prayer and Celebration \nTo prepare our hearts for the birth of Jesus\, our Lord and to celebrate the gifts of our Healing Community\, our families and one another \nFriday Dec 15\, 7 PM ET on Zoom  and in person at \nCrosstowne Church\n1941 Bees Ferry Rd Charleston SC 29414 \n*In person event features fellowship meal at 5:30 PM \nTo register contact Mike Sabback (mss9326@aol.com) or osl@oslcharleston.com
URL:https://www.osltoday.org/event/a-night-of-holiday-prayer-and-celebration-2/
LOCATION:Crosstowne Church\, 1941 Bees Ferry Road\, Charleston\, SC\, 29414\, United States
ORGANIZER;CN="Mike Sabback":MAILTO:mss9326@aol.com
END:VEVENT
END:VCALENDAR