BEGIN:VCALENDAR
VERSION:2.0
PRODID:-//OSL - ECPv6.15.4//NONSGML v1.0//EN
CALSCALE:GREGORIAN
METHOD:PUBLISH
X-WR-CALNAME:OSL
X-ORIGINAL-URL:https://www.osltoday.org
X-WR-CALDESC:Events for OSL
REFRESH-INTERVAL;VALUE=DURATION:PT1H
X-Robots-Tag:noindex
X-PUBLISHED-TTL:PT1H
BEGIN:VTIMEZONE
TZID:America/Chicago
BEGIN:DAYLIGHT
TZOFFSETFROM:-0600
TZOFFSETTO:-0500
TZNAME:CDT
DTSTART:20240310T080000
END:DAYLIGHT
BEGIN:STANDARD
TZOFFSETFROM:-0500
TZOFFSETTO:-0600
TZNAME:CST
DTSTART:20241103T070000
END:STANDARD
END:VTIMEZONE
BEGIN:VEVENT
DTSTART;VALUE=DATE:20240119
DTEND;VALUE=DATE:20240121
DTSTAMP:20260420T155402
CREATED:20240118T163819Z
LAST-MODIFIED:20240118T163839Z
UID:6242-1705622400-1705795199@www.osltoday.org
SUMMARY:RESCHEDULED TBD - Introduction to Healing
DESCRIPTION:This event will be rescheduled to a later date. Watch for the announcement here. \nRestoring the Soul – An Introduction To Inner Healing\nA time of worship\, anointed teaching and life-changing healing prayer. \nFriday January 19\, 2024\, 7:00 PM – 9:00PM \nSaturday January 20\, 2024\, 9:00 AM – 3:30 PM *Lunch Included” \nRegistration is $25 with Scholarships Available
URL:https://www.osltoday.org/event/rescheduled-tbd-introduction-to-healing/
LOCATION:St. Francis of Assisi Episcopal Church\, 43 Lake June Road\, Lake Placid\, FL\, 33852\, United States
ORGANIZER;CN="St. Francis Lake Placid":MAILTO:stfrancislakeplacid@gmail.com
END:VEVENT
BEGIN:VEVENT
DTSTART;TZID=America/Chicago:20240119T183000
DTEND;TZID=America/Chicago:20240120T153000
DTSTAMP:20260420T155402
CREATED:20231218T151115Z
LAST-MODIFIED:20231218T151115Z
UID:6152-1705689000-1705764600@www.osltoday.org
SUMMARY:Restoring the Soul: An Introduction to Inner Healing
DESCRIPTION:An Introduction to Inner Healing\nJanuary 19-20\, 2024 \nFriday\, January 19: 6:30 pm – 9:00 pm\nSaturday\, January 20: 9:00 am – 3:30 pm \nThe Order of St Luke International & Amazing Love Healing Ministry invites you to join\nPastor Sharon Lewis and her team for a time of worship with Rev Janet Shell\, anointed teaching & life-changing healing prayer. \nDiscover for yourself: \n\nWhat is inner healing?\nHow do I know that I need healing?\nHow can I let go of the hurts of the past? v How can I walk in forgiveness and mercy? v What are the promises of God for my life?\n\nRegistration Email: stfrancislakeplacid@gmail.com\nPhone: (863) 465-0051 \nSt. Francis of Assisi Episcopal Church\n43 Lake June Road\, Lake Placid\, Florida 33852 \nA love offering will be taken for the healing ministries. \n$25.00 registration fee with scholarships available.
URL:https://www.osltoday.org/event/restoring-the-soul-an-introduction-to-inner-healing/
LOCATION:St. Francis of Assisi Episcopal Church\, 43 Lake June Road\, Lake Placid\, FL\, 33852\, United States
ORGANIZER;CN="St. Francis Lake Placid":MAILTO:stfrancislakeplacid@gmail.com
END:VEVENT
END:VCALENDAR