BEGIN:VCALENDAR
VERSION:2.0
PRODID:-//OSL - ECPv6.15.4//NONSGML v1.0//EN
CALSCALE:GREGORIAN
METHOD:PUBLISH
X-WR-CALNAME:OSL
X-ORIGINAL-URL:https://www.osltoday.org
X-WR-CALDESC:Events for OSL
REFRESH-INTERVAL;VALUE=DURATION:PT1H
X-Robots-Tag:noindex
X-PUBLISHED-TTL:PT1H
BEGIN:VTIMEZONE
TZID:America/Indiana/Indianapolis
BEGIN:DAYLIGHT
TZOFFSETFROM:-0500
TZOFFSETTO:-0400
TZNAME:EDT
DTSTART:20240310T070000
END:DAYLIGHT
BEGIN:STANDARD
TZOFFSETFROM:-0400
TZOFFSETTO:-0500
TZNAME:EST
DTSTART:20241103T060000
END:STANDARD
END:VTIMEZONE
BEGIN:VEVENT
DTSTART;TZID=America/Indiana/Indianapolis:20240202T173000
DTEND;TZID=America/Indiana/Indianapolis:20240203T170000
DTSTAMP:20260420T102144
CREATED:20230720T194815Z
LAST-MODIFIED:20231214T153908Z
UID:5730-1706895000-1706979600@www.osltoday.org
SUMMARY:Rekindle Conference in Naples\, Florida
DESCRIPTION:Rekindle Retreat“becoming healing disciples of Jesus” \nFeb 2-3\, 2024 \nIn-Person Rekindle Retreat\nNaples\, Florida\nwith Rev. Josh Acton \nSt. John’s Episcopal Church\n500 Park Shore Dr.\nNaples\, FL 34103\nhttps://stjohnsnaples.com/events/order-of-st-luke/ \nRegister today!\nClick here for PDF Registration Form \nTo reserve a place at Rekindle\, please complete and mail the reservation form before January 19\, 2024 to: \nSt. John’s Episcopal Church\n500 Park Shore Drive\nNaples\, FL 34103 \nYour $25 donation is appreciated and includes lunch. Please make checks payable to St. John’s Episcopal Church and write ‘Healing Mission’ on the memo line. \nLocal event contact: Vicky Bauch (gramv1951@icloud.com) \nSchedule:   \nFriday evening 5:30pm – 8:00 PM (with dinner)\nSaturday 9:00am – 5:00 PM (includes lunch)\nSaturday 5:00 PM – invitation to Eucharist service at the church \nThis is an in-person retreat only\, hosted at the church.  Lodging not included.  For out of town guests\, fly into Fort Meyers Airport\, then a 45 min drive south.  \n  \n \n  \n  \n  \n  \n  \n  \n  \n  \nJoin OSL North American Director Rev. Josh Acton for a time of going deeper in your walk with Christ.  There will be a series of talks\, followed by small group time for discussion\, listening to the Lord\, fellowship\, and prayer. \nTopics will include spiritual disciplines\, the power of intercession\, hearing from God\, and sharing the message of the Gospel.  We will explore how to stay ‘in tune’ with the Lord\, provide structure for moving into the missional part of discipleship\, and offer opportunities to have mentors and be a mentor on the journey.  You won’t want to miss these Holy Spirit-filled weekends! \nAnyone is invited to attend! \n——————————————— \nThere will be more Rekindle Retreats offered in various locations and formats throughout the year.  Please visit our main Rekindle Retreat webpage for additional dates and locations\, or to find out more about the retreats:  https://osltoday.org/rekindleretreats/.
URL:https://www.osltoday.org/event/rekindle-retreat-in-naples-florida/
LOCATION:St. John’s Episcopal Church\, 500 Park Shore Dr.\, Naples\, FL\, 34103\, United States
ORGANIZER;CN="Laura Sinclair":MAILTO:nadoffice@osltoday.org
END:VEVENT
END:VCALENDAR