BEGIN:VCALENDAR
VERSION:2.0
PRODID:-//OSL - ECPv6.15.4//NONSGML v1.0//EN
CALSCALE:GREGORIAN
METHOD:PUBLISH
X-WR-CALNAME:OSL
X-ORIGINAL-URL:https://www.osltoday.org
X-WR-CALDESC:Events for OSL
REFRESH-INTERVAL;VALUE=DURATION:PT1H
X-Robots-Tag:noindex
X-PUBLISHED-TTL:PT1H
BEGIN:VTIMEZONE
TZID:America/Indiana/Indianapolis
BEGIN:DAYLIGHT
TZOFFSETFROM:-0500
TZOFFSETTO:-0400
TZNAME:EDT
DTSTART:20240310T070000
END:DAYLIGHT
BEGIN:STANDARD
TZOFFSETFROM:-0400
TZOFFSETTO:-0500
TZNAME:EST
DTSTART:20241103T060000
END:STANDARD
END:VTIMEZONE
BEGIN:VEVENT
DTSTART;VALUE=DATE:20240726
DTEND;VALUE=DATE:20240727
DTSTAMP:20260420T024956
CREATED:20240430T182231Z
LAST-MODIFIED:20240524T172108Z
UID:6439-1721952000-1722038399@www.osltoday.org
SUMMARY:Summer Celebration\, Fellowship and Prayer Night
DESCRIPTION:Join OSL SC for our annual Summer Celebration and Prayer Night\, Friday\, July 26 at 7 PM ET on Zoom featuring an Old Fashioned Gospel Sing along as well as teaching from the Word of God and prayer in breakout rooms. \nFor those living in the Charleston\, SC area an in-person covered dish and fellowship meal will be held at 5:30 PM at Folly Beach UMC Church\, 118 W Indian Ave.\, Folly Beach\, SC\, prior to the zoom event at 7 PM ET. \n5:30 PM\nIn-person cookout\, dinner and fellowship for those living in the Charleston area (Location TBD) \n7 PM\nZoom meeting includes Praise and Worship (with old time Gospel sing along)\, Teaching and Testimony\, Small Group Prayer and Fellowship
URL:https://www.osltoday.org/event/summer-celebration-fellowship-and-prayer-night-2/
LOCATION:Zoom
ORGANIZER;CN="Mike Sabback":MAILTO:mss9326@aol.com
END:VEVENT
END:VCALENDAR