BEGIN:VCALENDAR
VERSION:2.0
PRODID:-//OSL - ECPv6.15.4//NONSGML v1.0//EN
CALSCALE:GREGORIAN
METHOD:PUBLISH
X-WR-CALNAME:OSL
X-ORIGINAL-URL:https://www.osltoday.org
X-WR-CALDESC:Events for OSL
REFRESH-INTERVAL;VALUE=DURATION:PT1H
X-Robots-Tag:noindex
X-PUBLISHED-TTL:PT1H
BEGIN:VTIMEZONE
TZID:America/Indiana/Indianapolis
BEGIN:DAYLIGHT
TZOFFSETFROM:-0500
TZOFFSETTO:-0400
TZNAME:EDT
DTSTART:20240310T070000
END:DAYLIGHT
BEGIN:STANDARD
TZOFFSETFROM:-0400
TZOFFSETTO:-0500
TZNAME:EST
DTSTART:20241103T060000
END:STANDARD
END:VTIMEZONE
BEGIN:VEVENT
DTSTART;VALUE=DATE:20240927
DTEND;VALUE=DATE:20240930
DTSTAMP:20260419T231512
CREATED:20231102T203303Z
LAST-MODIFIED:20240802T175514Z
UID:6072-1727395200-1727654399@www.osltoday.org
SUMMARY:2024 OSL North American Conference
DESCRIPTION:2024 OSL North American Conference\na joint event with Healing Winds \nSeptember 27–29\, 2024 \nIn-Person\nLake Junaluska\, North Carolina\nSpeaker Mark Rutland\, Ph.D. \nRegistration is open now! Click here to register. \nBe Transformed\n“Do not conform to the pattern of this world\, but be transformed by the renewing of your mind. Then you will be able to test and approve what God’s will is—his good\, pleasing and perfect will.” (Romans 12:2) \nOSL is happy to announce that we have partnered with the Healing Winds Conference to hold the 2024 OSL North America Conference\, September 27-29\, 2024\, at the beautiful Lake Junaluska Conference and Retreat Center in the breath-taking North Carolina mountains. \nKeynote Speaker \nMark Rutland\, Ph.D.\, is a New York Times best-selling author\, educator\, charismatic leader\, businessman and a nationally recognized figure in Christian higher education. He is the executive director of the National Institute of Christian Leadership and founder of Global Servants\, having served previously as the pastor of a megachurch and president of two universities. \nRutland and his wife\, Alison\, have been married and in ministry for more than fifty years. They have three children and nine grandchildren. \nThe Rutlands established House of Grace in Chiang Rai\, Thailand\, and Kumasi\, Ghana\, to protect tribal girls from sex trafficking through Global Servants. Since 1986 House of Grace has been “saving little girls for big destinies.” Its work in West Africa\, largely in remote villages\, has built churches and village hygiene services in five countries. \nAuthor of best-selling book\, “Courage to Heal.” \nFor more information on Dr. Rutland visit his website at www.drmarkrutland.com. \nRegistration $149 \nYou don’t want to miss this in-person OSL event!  Plan on coming and invite a friend!  This conference is for OSL members and non-OSL members; everyone is welcome! \nTo read more about the conference\, please click here. \nTo register\, please click here.
URL:https://www.osltoday.org/event/save-the-date-osl-north-american-conference-2/
LOCATION:Lake Junaluska Conference and Retreat Center\, 91 N Lakeshore Drive\, Waynesville\, NC\, 28785\, United States
ORGANIZER;CN="Kay Covode":MAILTO:skbcovode@hotmail.com
END:VEVENT
END:VCALENDAR