BEGIN:VCALENDAR
VERSION:2.0
PRODID:-//OSL - ECPv6.15.4//NONSGML v1.0//EN
CALSCALE:GREGORIAN
METHOD:PUBLISH
X-WR-CALNAME:OSL
X-ORIGINAL-URL:https://www.osltoday.org
X-WR-CALDESC:Events for OSL
REFRESH-INTERVAL;VALUE=DURATION:PT1H
X-Robots-Tag:noindex
X-PUBLISHED-TTL:PT1H
BEGIN:VTIMEZONE
TZID:America/Chicago
BEGIN:DAYLIGHT
TZOFFSETFROM:-0600
TZOFFSETTO:-0500
TZNAME:CDT
DTSTART:20240310T080000
END:DAYLIGHT
BEGIN:STANDARD
TZOFFSETFROM:-0500
TZOFFSETTO:-0600
TZNAME:CST
DTSTART:20241103T070000
END:STANDARD
END:VTIMEZONE
BEGIN:VEVENT
DTSTART;VALUE=DATE:20241009
DTEND;VALUE=DATE:20241012
DTSTAMP:20260419T214413
CREATED:20240731T151751Z
LAST-MODIFIED:20240801T145014Z
UID:6568-1728432000-1728691199@www.osltoday.org
SUMMARY:Save the Date: Region 2 - Annual Spiritual Retreat
DESCRIPTION:OSL Region 2 Quiet Walk with Jesus – Annual Spiritual Retreat\n \nOctober 9–11\, 2024 \nRobin Rauh\, Retreat Spiritual Leader \nWhite Sulphur Springs Conference Center\n4500 Milligans Cove Rd\, Manns Choice\, PA 15550 \nRobin Rauh Bio \nRobin was born in Springfield\, MA and raised as a Roman Catholic.  It became a formative place for what would later be a draw to a sacramental life and monastic retreats.  He was ordained in 1980 into the Episcopal Church in Troy\, NY.  After that He and his wife Penny and their three children moved around the country where he served as rector in Holy Cross\, Troy NY\, Church of the Apostles\, Fairfax VA\, St. Stephen’s in Huntsville\, AL\, and finally in Church of the Epiphany\, Herndon\, VA.  After 17 years as rector\, including in the new ACNA Diocese of the Mid Atlantic\, he retired in 2014. \nRobin also served in the Fairfax County Fire/Rescue as a chaplain and emergency medical technician for ten years.  Driving an ambulance\, participating in automobile rescues and medical intervention was a way to carry pastoral care skills to medical emergencies.  He worked as an EMT in an area retirement village\, which was one of must fulfilling times of his vocation. \nHe now serves as a supply priest in the Diocese of the Mid Atlantic which is very rewarding. \nIn addition to his vocation as an Anglican priest\, he plays in a bluegrass band\, practices as an amateur radio operator and creates watercolor paintings.
URL:https://www.osltoday.org/event/save-the-date-region-2-annual-spiritual-retreat/
LOCATION:White Sulphur Springs\, 4500 Milligans Cove Road\, Manns Choice\, PA\, 15550\, United States
ORGANIZER;CN="Vivian Stein":MAILTO:beancounterhelp@outlook.com
END:VEVENT
END:VCALENDAR