BEGIN:VCALENDAR
VERSION:2.0
PRODID:-//OSL - ECPv6.15.4//NONSGML v1.0//EN
CALSCALE:GREGORIAN
METHOD:PUBLISH
X-ORIGINAL-URL:https://www.osltoday.org
X-WR-CALDESC:Events for OSL
REFRESH-INTERVAL;VALUE=DURATION:PT1H
X-Robots-Tag:noindex
X-PUBLISHED-TTL:PT1H
BEGIN:VTIMEZONE
TZID:America/Los_Angeles
BEGIN:DAYLIGHT
TZOFFSETFROM:-0800
TZOFFSETTO:-0700
TZNAME:PDT
DTSTART:20240310T100000
END:DAYLIGHT
BEGIN:STANDARD
TZOFFSETFROM:-0700
TZOFFSETTO:-0800
TZNAME:PST
DTSTART:20241103T090000
END:STANDARD
END:VTIMEZONE
BEGIN:VEVENT
DTSTART;TZID=America/Los_Angeles:20241029T190000
DTEND;TZID=America/Los_Angeles:20241029T200000
DTSTAMP:20260419T201554
CREATED:20241028T154341Z
LAST-MODIFIED:20241028T154341Z
UID:6739-1730228400-1730232000@www.osltoday.org
SUMMARY:Healing Soaking Prayer Service
DESCRIPTION:YOU ARE WARMLY INVITED TO ATTEND the Healing Soaking Prayer Service IN PERSON or via LIVESTREAM on Tuesday\, October 29th from 7-8pm PT. \nJoin us for an hour of intentional peace as we lift up the needs for our nation\, world\, ourselves and our loved ones. \nThis event is sponsored by the Church of Good Shepherd Healing Community. \nHere is the link to the Healing Soaking Prayer Service: https://youtube.com/live/pxeBgUxEY3g
URL:https://www.osltoday.org/event/healing-soaking-prayer-service/
LOCATION:Livestream via Zoom
ORGANIZER;CN="Convener Saran Warne":MAILTO:warne@comcast.net
END:VEVENT
END:VCALENDAR