BEGIN:VCALENDAR
VERSION:2.0
PRODID:-//OSL - ECPv6.15.4//NONSGML v1.0//EN
CALSCALE:GREGORIAN
METHOD:PUBLISH
X-ORIGINAL-URL:https://www.osltoday.org
X-WR-CALDESC:Events for OSL
REFRESH-INTERVAL;VALUE=DURATION:PT1H
X-Robots-Tag:noindex
X-PUBLISHED-TTL:PT1H
BEGIN:VTIMEZONE
TZID:America/Indiana/Indianapolis
BEGIN:DAYLIGHT
TZOFFSETFROM:-0500
TZOFFSETTO:-0400
TZNAME:EDT
DTSTART:20240310T070000
END:DAYLIGHT
BEGIN:STANDARD
TZOFFSETFROM:-0400
TZOFFSETTO:-0500
TZNAME:EST
DTSTART:20241103T060000
END:STANDARD
END:VTIMEZONE
BEGIN:VEVENT
DTSTART;TZID=America/Indiana/Indianapolis:20241213T190000
DTEND;TZID=America/Indiana/Indianapolis:20241213T210000
DTSTAMP:20260419T184136
CREATED:20241016T183931Z
LAST-MODIFIED:20241016T183931Z
UID:6721-1734116400-1734123600@www.osltoday.org
SUMMARY:A Night of Holiday Prayer and Celebration
DESCRIPTION:OSL South Carolina invites you to:\nA Night of Holiday Prayer and Celebration \nTo prepare our hearts for the birth of Jesus\, our Lord and to celebrate the gifts of our Healing Community\, our families and one another. \nFriday December 13\, 7 PM ET on Zoom and in person* at Crosstowne Church\, \n1941 Bees Ferry Road\nCharleston SC 29414 \n*In person event features fellowship meal at 6:00 PM \nTo register contact Mike Sabback (mss9326@aol.com) or osl@oslcharleston.com
URL:https://www.osltoday.org/event/a-night-of-holiday-prayer-and-celebration-3/
LOCATION:Zoom
ORGANIZER;CN="Mike Sabback":MAILTO:mss9326@aol.com
END:VEVENT
END:VCALENDAR