BEGIN:VCALENDAR
VERSION:2.0
PRODID:-//OSL - ECPv6.15.4//NONSGML v1.0//EN
CALSCALE:GREGORIAN
METHOD:PUBLISH
X-WR-CALNAME:OSL
X-ORIGINAL-URL:https://www.osltoday.org
X-WR-CALDESC:Events for OSL
REFRESH-INTERVAL;VALUE=DURATION:PT1H
X-Robots-Tag:noindex
X-PUBLISHED-TTL:PT1H
BEGIN:VTIMEZONE
TZID:America/Indiana/Indianapolis
BEGIN:DAYLIGHT
TZOFFSETFROM:-0500
TZOFFSETTO:-0400
TZNAME:EDT
DTSTART:20250309T070000
END:DAYLIGHT
BEGIN:STANDARD
TZOFFSETFROM:-0400
TZOFFSETTO:-0500
TZNAME:EST
DTSTART:20251102T060000
END:STANDARD
END:VTIMEZONE
BEGIN:VEVENT
DTSTART;TZID=America/Indiana/Indianapolis:20250412T110000
DTEND;TZID=America/Indiana/Indianapolis:20250412T130000
DTSTAMP:20260419T124038
CREATED:20250115T162010Z
LAST-MODIFIED:20250131T194134Z
UID:6869-1744455600-1744462800@www.osltoday.org
SUMMARY:OSL South Carolina Morning of Soaking and Healing Prayer 
DESCRIPTION:OSL South Carolina Morning of Soaking and Healing Prayer  \nJoin OSL South Carolina for a Morning of Soaking and Healing Prayer on Zoom on Saturday\, April 19\, 2025\, 11 AM to 1 PM ET. \n\nCome and receive a special touch from Jesus.  Event will include praise and worship\, teaching from the Word of God\, response time including cross\, candles and communion\, individual prayer in breakout rooms and soaking prayer. \nOSL members\, friends and guests are invited. \nTo register contact Mike Sabback (mss9326@aol.com) or osl@oslcharleston.com
URL:https://www.osltoday.org/event/osl-south-carolina-morning-of-soaking-and-healing-prayer-2/
LOCATION:Zoom
ORGANIZER;CN="Mike Sabback":MAILTO:mss9326@aol.com
END:VEVENT
END:VCALENDAR