BEGIN:VCALENDAR
VERSION:2.0
PRODID:-//OSL - ECPv6.15.4//NONSGML v1.0//EN
CALSCALE:GREGORIAN
METHOD:PUBLISH
X-WR-CALNAME:OSL
X-ORIGINAL-URL:https://www.osltoday.org
X-WR-CALDESC:Events for OSL
REFRESH-INTERVAL;VALUE=DURATION:PT1H
X-Robots-Tag:noindex
X-PUBLISHED-TTL:PT1H
BEGIN:VTIMEZONE
TZID:America/Chicago
BEGIN:DAYLIGHT
TZOFFSETFROM:-0600
TZOFFSETTO:-0500
TZNAME:CDT
DTSTART:20200308T080000
END:DAYLIGHT
BEGIN:STANDARD
TZOFFSETFROM:-0500
TZOFFSETTO:-0600
TZNAME:CST
DTSTART:20201101T070000
END:STANDARD
END:VTIMEZONE
BEGIN:VEVENT
DTSTART;VALUE=DATE:20201010
DTEND;VALUE=DATE:20201011
DTSTAMP:20260420T001825
CREATED:20200702T191118Z
LAST-MODIFIED:20200702T191118Z
UID:2757-1602288000-1602374399@www.osltoday.org
SUMMARY:OSL Healing Mission
DESCRIPTION:Leader: Rev. Ryan Paetzold\nTheme: Finding God’s Presence in Our Lives \nPraise Music: Celebrate \nLocation: St. Stephen’s Episcopal Church\n367 U.S. 9\, Waretown\, NJ 08758 \nContact: Corinne Cromwell (732) 716-0382
URL:https://www.osltoday.org/event/osl-healing-mission/
LOCATION:St. Stephen’s Episcopal Church\, 367 US 9\, Waretown\, NJ\, 08758\, United States
ORGANIZER;CN="Corrine Cromwell":MAILTO:cromwell172@comcast.net
END:VEVENT
BEGIN:VEVENT
DTSTART;TZID=America/Chicago:20201009T190000
DTEND;TZID=America/Chicago:20201010T140000
DTSTAMP:20260420T001825
CREATED:20200711T182631Z
LAST-MODIFIED:20200928T172133Z
UID:2765-1602270000-1602338400@www.osltoday.org
SUMMARY:Region V Conference
DESCRIPTION:Victory in the Spirit: The Power of the Holy Spirit to Heal Emotions \nSpeaker: Rev. Paul Feider \n\nIn turbulent times\, we receive peace and even power by allowing the Holy Spirit to help us reflect upon The Child Within and lead us through Fear\, Unresolved Grief\, and Forgiveness. Fr. Paul Feider\, author of Resting in the Heart: A Spirituality of Healing and Wholeness and The Journey to Inner Peace\, will be our leader for 4 sessions covering these topics. \nFr. Paul\, a Wisconsin native and the President of the OSL Board of Directors\, is retired after 43 years in ministry. He spent these years passionately leading people in his community and surrounding area to a deep love for God\, teaching about the power of God’s word and bringing God’s healing touch to numerous people.  He has traveled to Australia\, Europe\, Guatemala\, Kenya\, Uganda\, Madagascar\, and nationally teaching and ministering the healing love of God. \n\n\nThe conference will be conducted live on Zoom. The schedule is below. All times are Central Time. \nFriday\, October 9 \n 7:00 PM:  The Child Within (Followed by prayer ministry in Zoom breakout rooms) \nSaturday\, October 10 \n10:00 AM:  Fear \n 11:15   AM:  Unresolved Grief \n 2:00 PM:   Forgiveness (Followed by prayer ministry in Zoom breakout rooms\, or you may choose to stay in the main conference room for a Guided Meditation called Walking with God.)
URL:https://www.osltoday.org/event/region-v-conference/
LOCATION:Online Conference via Zoom
ORGANIZER;CN="Jackie Doss":MAILTO:jackiedoss@live.com
END:VEVENT
END:VCALENDAR