BEGIN:VCALENDAR
VERSION:2.0
PRODID:-//OSL - ECPv6.15.4//NONSGML v1.0//EN
CALSCALE:GREGORIAN
METHOD:PUBLISH
X-WR-CALNAME:OSL
X-ORIGINAL-URL:https://www.osltoday.org
X-WR-CALDESC:Events for OSL
REFRESH-INTERVAL;VALUE=DURATION:PT1H
X-Robots-Tag:noindex
X-PUBLISHED-TTL:PT1H
BEGIN:VTIMEZONE
TZID:America/Chicago
BEGIN:DAYLIGHT
TZOFFSETFROM:-0600
TZOFFSETTO:-0500
TZNAME:CDT
DTSTART:20210314T080000
END:DAYLIGHT
BEGIN:STANDARD
TZOFFSETFROM:-0500
TZOFFSETTO:-0600
TZNAME:CST
DTSTART:20211107T070000
END:STANDARD
END:VTIMEZONE
BEGIN:VEVENT
DTSTART;TZID=America/Chicago:20210907T190000
DTEND;TZID=America/Chicago:20210907T210000
DTSTAMP:20260424T005046
CREATED:20210708T144113Z
LAST-MODIFIED:20210708T144113Z
UID:3813-1631041200-1631048400@www.osltoday.org
SUMMARY:26 Healing Miracles of Jesus Study
DESCRIPTION:OSL Charleston will be offering the 26 Healing Miracles of Jesus Study beginning September 7 at 7 pm ET on Zoom\n\nRegistration is open here and at OSLToday.org > find healing > 26 Miracles study.
URL:https://www.osltoday.org/event/26-healing-miracles-of-jesus-study/
LOCATION:Livestream via Zoom
ORGANIZER;CN="Mike Sabback":MAILTO:mss9326@aol.com
END:VEVENT
BEGIN:VEVENT
DTSTART;TZID=America/Chicago:20210917T120000
DTEND;TZID=America/Chicago:20210919T120000
DTSTAMP:20260424T005046
CREATED:20210126T154528Z
LAST-MODIFIED:20210609T181906Z
UID:3146-1631880000-1632052800@www.osltoday.org
SUMMARY:Healing Winds 2021
DESCRIPTION:September 17-19\nRegistration open June 1 at healingwindsosl.org\n\nLocation:  Lake Junaluska Conference Center\n91 N Lakeshore Dr\, Waynesville\, NC 28785\n\nFeatured Speaker:  Mary Ellen Conners\n\nContacts: Art Mack\, (828) 697-7604\, mackar4264@yahoo.com\nor Kay Covode\, (828) 389-8384\, skbcovode@hotmail.com
URL:https://www.osltoday.org/event/healing-winds-2021/
LOCATION:Lake Junaluska Conference and Retreat Center\, 91 N Lakeshore Drive\, Waynesville\, NC\, 28785\, United States
ORGANIZER;CN="Art Mack":MAILTO:mackar4264@yahoo.com
END:VEVENT
BEGIN:VEVENT
DTSTART;TZID=America/Chicago:20210924T190000
DTEND;TZID=America/Chicago:20210924T210000
DTSTAMP:20260424T005046
CREATED:20210810T205650Z
LAST-MODIFIED:20210810T205951Z
UID:3881-1632510000-1632517200@www.osltoday.org
SUMMARY:OSL Charleston Night of Fellowship and Prayer
DESCRIPTION:OSL Charleston will hold our next Night of Prayer and Fellowship\nFriday\, September 24 at 7 PM ET.\n\nThis event will be both on  Zoom and in person at:\nCrosstowne Church\n1941 Bees Ferry Road\nCharleston\, SC 29414\n\nFeatured speaker for the evening will be Pastor Danny Dyer\, Country Director\, OSL Honduras.  You wont want to miss this awesome evening!\n\nTo register contact Mike Sabback (mss9326@aol.com)
URL:https://www.osltoday.org/event/osl-charleston-night-of-fellowship-and-prayer-2/
LOCATION:Crosstowne Church\, 1941 Bees Ferry Road\, Charleston\, SC\, 29414\, United States
ORGANIZER;CN="Mike Sabback":MAILTO:mss9326@aol.com
END:VEVENT
END:VCALENDAR