BEGIN:VCALENDAR
VERSION:2.0
PRODID:-//OSL - ECPv6.15.4//NONSGML v1.0//EN
CALSCALE:GREGORIAN
METHOD:PUBLISH
X-WR-CALNAME:OSL
X-ORIGINAL-URL:https://www.osltoday.org
X-WR-CALDESC:Events for OSL
REFRESH-INTERVAL;VALUE=DURATION:PT1H
X-Robots-Tag:noindex
X-PUBLISHED-TTL:PT1H
BEGIN:VTIMEZONE
TZID:America/Chicago
BEGIN:DAYLIGHT
TZOFFSETFROM:-0600
TZOFFSETTO:-0500
TZNAME:CDT
DTSTART:20210314T080000
END:DAYLIGHT
BEGIN:STANDARD
TZOFFSETFROM:-0500
TZOFFSETTO:-0600
TZNAME:CST
DTSTART:20211107T070000
END:STANDARD
END:VTIMEZONE
BEGIN:VEVENT
DTSTART;TZID=America/Chicago:20211007T190000
DTEND;TZID=America/Chicago:20211009T123000
DTSTAMP:20260423T232648
CREATED:20210831T135551Z
LAST-MODIFIED:20210831T135551Z
UID:3908-1633633200-1633782600@www.osltoday.org
SUMMARY:River of God – OSL Leadership Retreat
DESCRIPTION:Our OSL Leadership Retreat\, October 7-9\, 2021\, will be online rather than in person due to the\nincreased incidences of Covid-19 in Florida and updated diocesan protocols for in person\ngatherings. \nThis is designed as a retreat\, not a teaching conference. The whole focus is on filling up with the\nriver of God those who have been pouring themselves out over the last year and a half. Our six\nspeakers will be sharing words of encouragement from scripture via Facebook livestream on\nthe OSL Facebook page: https://www.facebook.com/OSLToday\, and the Reverend Bob Johnson\nwill be leading worship from the Church of the Ascension sanctuary for each session \n.\nThere will be an opportunity for small group fellowship and prayer after three of the talks and\nlarge group ministry\, including soaking prayer after the remaining three. There will be a link in\nthe comments section of the Facebook livestream which will take people into Zoom breakout\nrooms for the small group time. \nWe have tried to accommodate mealtimes with breaks to the extent that it is possible when\nscheduling across several time zones. The schedule outline can be found here:\nhttps://docs.google.com/document/d/1eG5kt6R98_EKTCDwkXpuPbRUUlN6rMyc/edit?usp=sha\nring&amp;ouid=112028680920311825679&amp;rtpof=true&amp;sd=true \nRegistration: https://forms.gle/K8TvmbpMVbMx98uE7 \nThere is no registration fee for the retreat\, however\, gifts to OSL would be gratefully received:\nhttps://osltoday.org/give-now/ \nThis retreat is being hosted by Healing Hearts &amp; Healing Hands Community at Church of the\nAscension\, Orlando\, Florida
URL:https://www.osltoday.org/event/river-of-god-osl-leadership-retreat/
LOCATION:Virtual
ORGANIZER;CN="The Rev%E2%80%99d Sarah Bronos":MAILTO:revdsarah@icloud.com
END:VEVENT
BEGIN:VEVENT
DTSTART;TZID=America/Chicago:20211013T080000
DTEND;TZID=America/Chicago:20211015T170000
DTSTAMP:20260423T232648
CREATED:20210708T143552Z
LAST-MODIFIED:20210922T155821Z
UID:3808-1634112000-1634317200@www.osltoday.org
SUMMARY:Region 2 Quiet Walk with Jesus Retreat
DESCRIPTION:A QUIET WALK WITH JESUS\nOSL REGION 2 ANNUAL FALL RETREAT \nLOVE IS HEALING\nMeditations on the healing power of love. \nCarolyn Rae\, Region 2 Director \nTuscarora Inn and Conference Center\nMount Bethel\, PA \nOctober 13-15\, 2021 \nThere are two ways to register\, either online (below) or by printing out this registration form and mailing it in. \nWEDNESDAY\, October 13\, 2021\n4:00 – 5:30 PM: Registration\n5:30 – 6:30 PM: Dinner\n7:00 – 7:15 PM: Worship and Praise\n7:15 – 7:30 PM: Welcome and Introduction\, Carolyn Rae\, Region 2 Director\n7:30 – 7:45 PM: Introduction to Meditations\, God is Love with Carolyn Rae\n8:30 PM: Refreshments and Fellowship\, Coffee Break \nTHURSDAY\, October 14\, 2021\n8:30 – 9:30 AM: Breakfast\n9:45 – 10:00 AM: Announcements\, Worship and Praise\n10:00 – 10:20 AM: Meditation\, God Loves Us with Carolyn Rae\n10:20 – 10:40 AM: Quiet Time\n10:40 – 11:00 AM: Free Time\, Coffee Break\n11:00 – 11:10 AM: Announcements\, Worship and Praise\n11:10 – 11:30 AM: Meditation\, We Love God with Carolyn Rae\n11:30 – 12 PM: Quiet Time\n12 Noon – 12:30 PM: Free Time\n12:30 – 1:30 PM: Lunch\n1:45 – 2:00 PM: Announcements\, Worship and Praise\n2:00 – 2:25 PM: Meditation\, We Love Ourselves with Carolyn Rae\n2:25 – 2:45 PM: Quiet Time\n2:45 – 3:00 PM: Free Time\, Coffee Break\n3:00 – 3:10 PM: Announcements\, Worship and Praise\n3:10 – 3:30 PM: Meditation\, We Love Others with Carolyn Rae\n3:30 – 3:50 PM: Quiet Time\n3:50 – 5:30 PM: Free Time\n5:30 – 6:30 PM: Dinner\n7:00 – 7:15 PM: Worship and Praise\n7:15 – 7:45 PM: Induction of New Members\n7:45 – 8:15 PM: Healing ministry\n8:30 PM: Refreshments and Fellowship\, Ice Cream Social \nFRIDAY\, October 15\, 2021\n8:30 – 9:30 AM: Breakfast\n9:45 – 10:00 AM: Worship and Praise\n10:00 – 11:00 AM: Holy Eucharist and Sharing of God’s Blessings\n11:00 AM: Check-out \nNotes on format – Carolyn will present short meditations on each topic followed by quiet time for individual reflection on the topic. \n— \nConference Costs \nTotal includes $40 non-refundable registration fee. \nFor more information or scholarship request\, contact Carolyn Rae at 540-504-7260 or OSLRegion2Director@gmail.com
URL:https://www.osltoday.org/event/region-2-quiet-walk-with-jesus-retreat/
LOCATION:Tuscarora Inn & Conference Center\, 3300 River Road\, Mt. Bethel\, PA\, 18343\, United States
ORGANIZER;CN="Carolyn Rae":MAILTO:oslregion2director@gmail.com
END:VEVENT
BEGIN:VEVENT
DTSTART;TZID=America/Chicago:20211028T103000
DTEND;TZID=America/Chicago:20211028T120000
DTSTAMP:20260423T232648
CREATED:20210923T153056Z
LAST-MODIFIED:20210923T153056Z
UID:3989-1635417000-1635422400@www.osltoday.org
SUMMARY:Spiritual Gifts that Heal Online Class
DESCRIPTION:A New Facebook Live Course\nby The Rev Joseph K. Acton\, North American Director\, OSL \nHave you ever wanted to see how your spiritual gifts can deeply heal the brokenness of others? Come and learn how to recognize and be activated in spiritual gifts. Discover the joy of Spiritual Gifts healing others. \nThis course will be taught live on Facebook.com/OSLToday Thursday mornings at 10:30AM (PT)\, beginning October 28th
URL:https://www.osltoday.org/event/spiritual-gifts-that-heal-online-class/
LOCATION:www.Facebook.com/OSLToday/Live
ORGANIZER;CN="Rev. Josh Acton":MAILTO:oslnad@osltoday.org
END:VEVENT
BEGIN:VEVENT
DTSTART;TZID=America/Chicago:20211030T110000
DTEND;TZID=America/Chicago:20211030T130000
DTSTAMP:20260423T232648
CREATED:20210901T163021Z
LAST-MODIFIED:20210901T163021Z
UID:3920-1635591600-1635598800@www.osltoday.org
SUMMARY:Morning of Healing and Soaking Prayer
DESCRIPTION:The Charleston\, SC Citywide OSL Healing Community will hold a Morning of Healing and Soaking Prayer on Saturday\, October 30 from 11 am to 1 pm ET via Zoom. \nThis morning will consist of praise and worship\, teaching from the Word of God\, response time including Cross\, Candles and Communion\, soaking and individual prayer time. \nThere is no charge to attend. All are invited. \nTo register\, please contact Mike Sabback (mss9326@aol.com).
URL:https://www.osltoday.org/event/morning-of-healing-and-soaking-prayer/
LOCATION:Virtual
ORGANIZER;CN="Mike Sabback":MAILTO:mss9326@aol.com
END:VEVENT
END:VCALENDAR