BEGIN:VCALENDAR
VERSION:2.0
PRODID:-//OSL - ECPv6.15.4//NONSGML v1.0//EN
CALSCALE:GREGORIAN
METHOD:PUBLISH
X-ORIGINAL-URL:https://www.osltoday.org
X-WR-CALDESC:Events for OSL
REFRESH-INTERVAL;VALUE=DURATION:PT1H
X-Robots-Tag:noindex
X-PUBLISHED-TTL:PT1H
BEGIN:VTIMEZONE
TZID:America/Chicago
BEGIN:DAYLIGHT
TZOFFSETFROM:-0600
TZOFFSETTO:-0500
TZNAME:CDT
DTSTART:20220313T080000
END:DAYLIGHT
BEGIN:STANDARD
TZOFFSETFROM:-0500
TZOFFSETTO:-0600
TZNAME:CST
DTSTART:20221106T070000
END:STANDARD
END:VTIMEZONE
BEGIN:VEVENT
DTSTART;TZID=America/Chicago:20220128T190000
DTEND;TZID=America/Chicago:20220128T210000
DTSTAMP:20260423T192243
CREATED:20220103T222440Z
LAST-MODIFIED:20220103T222440Z
UID:4200-1643396400-1643403600@www.osltoday.org
SUMMARY:OSL Charleston Night of Fellowship and Prayer
DESCRIPTION:OSL Charleston invites you to a Night of Fellowship and Prayer on Friday\, January 28 at 7 PM ET on Zoom and in-person at \nSt. Marks United Methodist Church\n413 Geddes Avenue\nCharleston\, SC 29407 \nThis evening will feature praise and worship\, teaching\, testimony\, and small group prayer and fellowship. \nThe teaching topic for the evening will be “The Healing Power of Testimony.” \nYou are encouraged to bring a healing testimony to share that night. \nRegistration is free. \nTo register contact Mike Sabback (mss9326@aol.com)
URL:https://www.osltoday.org/event/osl-charleston-night-of-fellowship-and-prayer-3/
LOCATION:St. Mark’s United Methodist Church\, 413 Geddes Avenue\, Charleston\, SC\, 29407\, United States
ORGANIZER;CN="Mike Sabback":MAILTO:mss9326@aol.com
END:VEVENT
END:VCALENDAR