BEGIN:VCALENDAR
VERSION:2.0
PRODID:-//OSL - ECPv6.15.4//NONSGML v1.0//EN
CALSCALE:GREGORIAN
METHOD:PUBLISH
X-ORIGINAL-URL:https://www.osltoday.org
X-WR-CALDESC:Events for OSL
REFRESH-INTERVAL;VALUE=DURATION:PT1H
X-Robots-Tag:noindex
X-PUBLISHED-TTL:PT1H
BEGIN:VTIMEZONE
TZID:America/Chicago
BEGIN:DAYLIGHT
TZOFFSETFROM:-0600
TZOFFSETTO:-0500
TZNAME:CDT
DTSTART:20220313T080000
END:DAYLIGHT
BEGIN:STANDARD
TZOFFSETFROM:-0500
TZOFFSETTO:-0600
TZNAME:CST
DTSTART:20221106T070000
END:STANDARD
END:VTIMEZONE
BEGIN:VEVENT
DTSTART;TZID=America/Chicago:20220305T110000
DTEND;TZID=America/Chicago:20220305T130000
DTSTAMP:20260423T165511
CREATED:20220103T222552Z
LAST-MODIFIED:20220104T184235Z
UID:4203-1646478000-1646485200@www.osltoday.org
SUMMARY:OSL Charleston Morning of Healing and Soaking Prayer
DESCRIPTION:OSL Charleston invites you to a Morning of Healing and Soaking Prayer\, Saturday March 5\, 11 AM PM ET on Zoom.\n\nCome and receive a special touch from Jesus that day.\n\nEvent includes praise and worship\, teaching from the Word of God\, and response time including cross\, candles and communion\, soaking and individual prayer.  Each participant will receive 30 min of individual prayer and 30 min of soaking prayer with trained prayer ministers.\n\nTo register\, contact Mike Sabback (mss9326@aol.com)
URL:https://www.osltoday.org/event/osl-charleston-morning-of-healing-and-soaking-prayer/
LOCATION:Livestream via Zoom
ORGANIZER;CN="Mike Sabback":MAILTO:mss9326@aol.com
END:VEVENT
BEGIN:VEVENT
DTSTART;TZID=America/Chicago:20220317T080000
DTEND;TZID=America/Chicago:20220319T170000
DTSTAMP:20260423T165511
CREATED:20220124T182429Z
LAST-MODIFIED:20220124T182429Z
UID:4223-1647504000-1647709200@www.osltoday.org
SUMMARY:Healing Light of Christ Mission Retreat
DESCRIPTION:Location: Mendham\, New Jersey \nSpeaker: Rev. Charles Lockner \nDate: March 17-19 \nContact: Corinne Cromwell\ncromwell172@comcast.net\n(732) 716-0382
URL:https://www.osltoday.org/event/healing-light-of-christ-mission-retreat/
LOCATION:FL
ORGANIZER;CN="Corrine Cromwell":MAILTO:cromwell172@comcast.net
END:VEVENT
BEGIN:VEVENT
DTSTART;TZID=America/Chicago:20220319T110000
DTEND;TZID=America/Chicago:20220319T130000
DTSTAMP:20260423T165511
CREATED:20220228T205958Z
LAST-MODIFIED:20220228T210604Z
UID:4320-1647687600-1647694800@www.osltoday.org
SUMMARY:20s/30s/40s Zoom Event - A Saturday with Russ Parker
DESCRIPTION:20s/30s/40s Zoom Event – A Saturday with Russ Parker\n\n\n\nSaturday\, March 19 from 11am-1pm ET\n(10am-12pm CT\, 9-11am MT\, 8-10am PT\, 7-9am AKT)This is an interactive Zoom program open to anyone in the 20s/30s/40s age group (OSL member or not)\, hosted by the OSL 20s/30s/40s Online Healing Community.Click here:  Registration Form \n\n\nYou will receive the Zoom link prior to the event via email (from oslonlinehc@gmail.com).\n\nThis program is free of charge. Please consider making a donation to Russ Parker’s ministry in gratitude.\n\n\nFind out more about our community:  https://osltoday.org/20s30s40scommunity/\nThis Online Healing Community is open to anyone in the 20s/30s/40s age group (OSL member or not).\nAs Christians who are members of OSL\, we recognize only one source of healing: the triune God (Father\, Son\, and Holy Spirit) who perfectly revealed his healing power in Jesus Christ\, the Son of God\, our Lord and Savior.
URL:https://www.osltoday.org/event/20s-30s-40s-zoom-event-a-saturday-with-russ-parker/
LOCATION:Livestream via Zoom
ORGANIZER;CN="Online Center for Healing Prayer":MAILTO:oslonlinehc@gmail.com
END:VEVENT
BEGIN:VEVENT
DTSTART;TZID=America/Chicago:20220319T110000
DTEND;TZID=America/Chicago:20220319T150000
DTSTAMP:20260423T165511
CREATED:20211202T233024Z
LAST-MODIFIED:20220210T190556Z
UID:4159-1647687600-1647702000@www.osltoday.org
SUMMARY:Region 4 Conference - ARMOR UP!
DESCRIPTION:Prayer Practices for Daily Empowerment \nSaturday\, March 19th\, 2022   \nSession 1:  11am-12:30pm EST \nSession 2:  1:30-3:00pm EST \nVirtual Conference via Zoom  \nAll regions and non-OSL members invited to attend free through Zoom!  \nSaran Warne\, OSL NA Board Vice-President & Region 6 Director\nLive Music\, Kathy Stanton Good Shepherd Worship Leader \n\nThere is NO FEE for the online conference\nLove offering donations are accepted \nFor more information and to register: \nhttps://www.eventbrite.com/e/river-of-love-2022-armor-up-with-saran-warne-registration-262306213947 \nContact Convener Cris Till\, b.cristill17@gmail.com \nDownload the flyer here. \n 
URL:https://www.osltoday.org/event/armor-up-prayer-practices-for-daily-empowerment/
LOCATION:Livestream via Zoom
ORGANIZER;CN="Cris Till":MAILTO:oslriveroflove@gmail.com
END:VEVENT
BEGIN:VEVENT
DTSTART;TZID=America/Chicago:20220325T170000
DTEND;TZID=America/Chicago:20220326T150000
DTSTAMP:20260423T165511
CREATED:20211117T151840Z
LAST-MODIFIED:20220111T185341Z
UID:4111-1648227600-1648306800@www.osltoday.org
SUMMARY:Healing: Generation to Generation
DESCRIPTION:Retreat Leader: The Rev. Dr. Sharon L. Lewis \nPastor Sharon\, President of OSL is an ordained priest in the Episcopal Church. She holds a masters degree in Counseling / Psychology. Pastor Sharon is the founder and executive director of Amazing Love Healing Ministry. \nWe are not destined to repeat the negative patterns or traumatic events that happened in our family’s history. God is outside of time and He is the God who heals us through the work of the cross. \n“If the Son sets you free\, you will be free indeed\,” (John 8:36) and God “shows love to a thousand generations…” (Exodus 20:6) \n— \nClick Here to Register \nThe cost of the retreat is $100.00 per person. The cost includes single room lodging\, three delicious gourmet meals\, all retreat materials\, and access to the extensive grounds and facilities. The cost of this retreat has been offset by generous grants from St. Paul’s Church in Brookfield\, CT and the Northwest Region of The ECCT.
URL:https://www.osltoday.org/event/healing-generation-to-generation/
LOCATION:Camp Washington\, 190 Kenyon Road\, Morris\, CT\, 06758\, United States
ORGANIZER;CN="The Rev. Tara Shepley":MAILTO:tbshepley@gmail.com
END:VEVENT
BEGIN:VEVENT
DTSTART;TZID=America/Chicago:20220326T110000
DTEND;TZID=America/Chicago:20220326T153000
DTSTAMP:20260423T165511
CREATED:20220120T200316Z
LAST-MODIFIED:20220228T205326Z
UID:4220-1648292400-1648308600@www.osltoday.org
SUMMARY:A Lenten Quiet Retreat on Zoom
DESCRIPTION:Event will also be in person at: \nChurch of the Holy Cross\n2520 Middle Street\nSullivans Island\, SC 29482 \nSpend quiet time preparing our hearts to journey with Jesus through\nHoly Week and Easter. \nRetreat will feature teachings on the Lenten Disciplines\, quiet\nreflection\, prayer\, journaling\, worship and communion. \nNo fee to attend but donations are gratefully accepted. All are invited. \nTo register contact Mike Sabback (mss9326@aol.com) \n 
URL:https://www.osltoday.org/event/a-lenten-quiet-retreat-on-zoom-2/
LOCATION:Livestream via Zoom
ORGANIZER;CN="Mike Sabback":MAILTO:mss9326@aol.com
END:VEVENT
END:VCALENDAR