BEGIN:VCALENDAR
VERSION:2.0
PRODID:-//OSL - ECPv6.15.4//NONSGML v1.0//EN
CALSCALE:GREGORIAN
METHOD:PUBLISH
X-WR-CALNAME:OSL
X-ORIGINAL-URL:https://www.osltoday.org
X-WR-CALDESC:Events for OSL
REFRESH-INTERVAL;VALUE=DURATION:PT1H
X-Robots-Tag:noindex
X-PUBLISHED-TTL:PT1H
BEGIN:VTIMEZONE
TZID:America/Chicago
BEGIN:DAYLIGHT
TZOFFSETFROM:-0600
TZOFFSETTO:-0500
TZNAME:CDT
DTSTART:20220313T080000
END:DAYLIGHT
BEGIN:STANDARD
TZOFFSETFROM:-0500
TZOFFSETTO:-0600
TZNAME:CST
DTSTART:20221106T070000
END:STANDARD
END:VTIMEZONE
BEGIN:VEVENT
DTSTART;TZID=America/Chicago:20220509T080000
DTEND;TZID=America/Chicago:20220512T170000
DTSTAMP:20260423T141943
CREATED:20210708T143636Z
LAST-MODIFIED:20210708T143636Z
UID:3810-1652083200-1652374800@www.osltoday.org
SUMMARY:Region 2 Annual Conference
DESCRIPTION:Keynote Speaker\, Nigel Mumford\nShrine Mont Conference Center\, Orkney Springs\, VA.
URL:https://www.osltoday.org/event/region-2-annual-conference/
LOCATION:Shrine Mont\, 217 Shrine Mont Circle\, Orkney Springs\, VA\, 22845\, United States
ORGANIZER;CN="Carolyn Rae":MAILTO:oslregion2director@gmail.com
END:VEVENT
BEGIN:VEVENT
DTSTART;TZID=America/Chicago:20220521T110000
DTEND;TZID=America/Chicago:20220521T140000
DTSTAMP:20260423T141943
CREATED:20220427T165407Z
LAST-MODIFIED:20220429T184250Z
UID:4537-1653130800-1653141600@www.osltoday.org
SUMMARY:A Morning with the Holy Spirit
DESCRIPTION:OSL Charleston invites you to\nA Morning with the Holy Spirit\nTo prepare our hearts for Pentecost \nSaturday May 21\, 11 AM ET on Zoom \nEvent will include Praise and Worship\, Teachings\, Impartation\, Activation and Ministry of the Holy Spirit \nTo register contact OSL Charleston (osl@oslcharleston.com)
URL:https://www.osltoday.org/event/a-morning-with-the-holy-spirit/
LOCATION:Livestream via Zoom
ORGANIZER;CN="OSL Charleston":MAILTO:osl@oslcharleston.com
END:VEVENT
END:VCALENDAR