BEGIN:VCALENDAR
VERSION:2.0
PRODID:-//OSL - ECPv6.15.4//NONSGML v1.0//EN
CALSCALE:GREGORIAN
METHOD:PUBLISH
X-ORIGINAL-URL:https://www.osltoday.org
X-WR-CALDESC:Events for OSL
REFRESH-INTERVAL;VALUE=DURATION:PT1H
X-Robots-Tag:noindex
X-PUBLISHED-TTL:PT1H
BEGIN:VTIMEZONE
TZID:America/Chicago
BEGIN:DAYLIGHT
TZOFFSETFROM:-0600
TZOFFSETTO:-0500
TZNAME:CDT
DTSTART:20220313T080000
END:DAYLIGHT
BEGIN:STANDARD
TZOFFSETFROM:-0500
TZOFFSETTO:-0600
TZNAME:CST
DTSTART:20221106T070000
END:STANDARD
END:VTIMEZONE
BEGIN:VEVENT
DTSTART;TZID=America/Chicago:20220805T190000
DTEND;TZID=America/Chicago:20220805T210000
DTSTAMP:20260423T093903
CREATED:20220615T191414Z
LAST-MODIFIED:20220801T135723Z
UID:4640-1659726000-1659733200@www.osltoday.org
SUMMARY:OSL Charleston Summer Celebration\, Fellowship and Prayer Night
DESCRIPTION:OSL Charleston Summer Celebration\, Fellowship and Prayer Night \nOn Zoom Fri Aug 5\, 2022\n7:00 PM ET \nPraise and Worship (with old time Gospel sing along)\, Teaching and Testimony\, Small Group Prayer and Fellowship \nTo register contact Mike Sabback (mss9326@aol.com) or osl@oslcharleston.com
URL:https://www.osltoday.org/event/osl-charleston-summer-cookout-fellowship-and-prayer-night/
LOCATION:Virtual
ORGANIZER;CN="Mike Sabback":MAILTO:mss9326@aol.com
END:VEVENT
BEGIN:VEVENT
DTSTART;TZID=America/Chicago:20220827T110000
DTEND;TZID=America/Chicago:20220827T130000
DTSTAMP:20260423T093903
CREATED:20220708T133733Z
LAST-MODIFIED:20220801T135348Z
UID:4691-1661598000-1661605200@www.osltoday.org
SUMMARY:A Morning of Soaking and Healing Prayer
DESCRIPTION:Join us for a Morning of Soaking and Healing Prayer \nCome and receive a special touch from Jesus. Event will consist of praise and worship\, teaching\, response time (cross\, candles and communion)\, soaking and individual prayer sessions with trained prayer ministers. \nAll are invited. \nTo register contact Mike Sabback (mss9326@aol.com) or osl@oslcharleston.com
URL:https://www.osltoday.org/event/a-morning-of-soaking-and-healing-prayer/
LOCATION:Virtual
ORGANIZER;CN="Mike Sabback":MAILTO:mss9326@aol.com
END:VEVENT
END:VCALENDAR