BEGIN:VCALENDAR
VERSION:2.0
PRODID:-//OSL - ECPv6.15.4//NONSGML v1.0//EN
CALSCALE:GREGORIAN
METHOD:PUBLISH
X-ORIGINAL-URL:https://www.osltoday.org
X-WR-CALDESC:Events for OSL
REFRESH-INTERVAL;VALUE=DURATION:PT1H
X-Robots-Tag:noindex
X-PUBLISHED-TTL:PT1H
BEGIN:VTIMEZONE
TZID:America/Chicago
BEGIN:DAYLIGHT
TZOFFSETFROM:-0600
TZOFFSETTO:-0500
TZNAME:CDT
DTSTART:20230312T080000
END:DAYLIGHT
BEGIN:STANDARD
TZOFFSETFROM:-0500
TZOFFSETTO:-0600
TZNAME:CST
DTSTART:20231105T070000
END:STANDARD
END:VTIMEZONE
BEGIN:VEVENT
DTSTART;TZID=America/Chicago:20230106T160000
DTEND;TZID=America/Chicago:20230107T140000
DTSTAMP:20260421T075320
CREATED:20221020T184133Z
LAST-MODIFIED:20221123T182710Z
UID:4907-1673020800-1673100000@www.osltoday.org
SUMMARY:OSL Region 7 Retreat
DESCRIPTION:“Let there be light… be the light.” \nOSL Region VII Epiphany Healing Conference via Zoom\nJanuary 6 – 7\, 2023 \nFriday\, January 6\, 2023\n4:00 pm – 6:00 pm (PST)\nRev. Josh Acton\, OSL North American Director \nSaturday\, January 7\, 2023\n9:00 am – 11:00 am(PST)\nFr. Andres Litzell\, OSL South Africa \n12:00 pm – 2:00 pm (PST)\nDitsie Scobie\, Director\, OSL Region 3 \nKathy Stanton leading worship\nBreakout rooms for discussion and prayer. \n  \nRegistration open: https://www.eventbrite.com/e/let-there-be-light-be-the-light-tickets-471649144287 \nThere is no fee. Donations gratefully received.
URL:https://www.osltoday.org/event/osl-region-7-retreat-save-the-date/
LOCATION:Livestream via Zoom
END:VEVENT
END:VCALENDAR