BEGIN:VCALENDAR
VERSION:2.0
PRODID:-//OSL - ECPv6.15.4//NONSGML v1.0//EN
CALSCALE:GREGORIAN
METHOD:PUBLISH
X-WR-CALNAME:OSL
X-ORIGINAL-URL:https://www.osltoday.org
X-WR-CALDESC:Events for OSL
REFRESH-INTERVAL;VALUE=DURATION:PT1H
X-Robots-Tag:noindex
X-PUBLISHED-TTL:PT1H
BEGIN:VTIMEZONE
TZID:America/Chicago
BEGIN:DAYLIGHT
TZOFFSETFROM:-0600
TZOFFSETTO:-0500
TZNAME:CDT
DTSTART:20230312T080000
END:DAYLIGHT
BEGIN:STANDARD
TZOFFSETFROM:-0500
TZOFFSETTO:-0600
TZNAME:CST
DTSTART:20231105T070000
END:STANDARD
END:VTIMEZONE
BEGIN:VEVENT
DTSTART;TZID=America/Chicago:20230211T100000
DTEND;TZID=America/Chicago:20230211T170000
DTSTAMP:20260421T061743
CREATED:20220818T171929Z
LAST-MODIFIED:20220818T171929Z
UID:4772-1676109600-1676134800@www.osltoday.org
SUMMARY:Healing Community Conference - Naples\, Florida
DESCRIPTION:Healing Community Conference \nFebruary 11\, 2023\nSpeaker: Rev. Josh Acton\, North American Director OSL\nTheme: Moving in the Presence of Jesus \nLocation: Faith Lutheran Church\, Naples\, Florida \n(Co-hosts: St. John’s Episcopal\, St. Mary’s Episcopal (Bonita Springs) and First Presbyterian\, Bonita Springs) \nContact: Randy Taylor\nRtaylor530@aol.com
URL:https://www.osltoday.org/event/healing-community-conference-naples-florida/
LOCATION:Faith Lutheran Church\, 4150 Goodlette-Frank Road\, Naples\, FL\, 34103\, United States
ORGANIZER;CN="Randy Taylor":MAILTO:Rtaylor530@aol.com
END:VEVENT
BEGIN:VEVENT
DTSTART;TZID=America/Chicago:20230214T190000
DTEND;TZID=America/Chicago:20230214T210000
DTSTAMP:20260421T061743
CREATED:20230119T164358Z
LAST-MODIFIED:20230119T164358Z
UID:5094-1676401200-1676408400@www.osltoday.org
SUMMARY:Healing Miracles...Continued
DESCRIPTION:OSL Charleston will teach “Healing Miracles…Continued” beginning Tues Feb 14 at 7 PM ET on Zoom.\n \nIn this nine week study we will review how the early church empowered by the Holy Spirit healed and drove out demons by reviewing 18 Healing Accounts found in the book of Acts.  The emphasis will be on how these healing accounts inform and empower our healing ministry today.\n \nTo register contact Mike Sabback (mss9326@aol.com) or osl@oslcharleston.com.
URL:https://www.osltoday.org/event/healing-miracles-continued/
LOCATION:Zoom
ORGANIZER;CN="Mike Sabback":MAILTO:mss9326@aol.com
END:VEVENT
BEGIN:VEVENT
DTSTART;TZID=America/Chicago:20230223T110000
DTEND;TZID=America/Chicago:20230223T120000
DTSTAMP:20260421T061743
CREATED:20230119T164802Z
LAST-MODIFIED:20230119T164802Z
UID:5096-1677150000-1677153600@www.osltoday.org
SUMMARY:A Lenten Call to Prayer
DESCRIPTION:OSL Charleston will offer “A Lenten Call to Prayer” beginning Thurs Feb 23 at 11 AM ET to 12 Noon on Zoom and continuing every Thursday in Lent.  This one hour prayer meeting will feature praise and worship\, Word of God\, prophetic words and praises and prayer in breakout rooms. \n \nContact Mike Sabback (mss9326@aol.com) for zoom link which will be the same for all sessions.
URL:https://www.osltoday.org/event/a-lenten-call-to-prayer/
LOCATION:Zoom
ORGANIZER;CN="Mike Sabback":MAILTO:mss9326@aol.com
END:VEVENT
END:VCALENDAR