BEGIN:VCALENDAR
VERSION:2.0
PRODID:-//OSL - ECPv6.15.4//NONSGML v1.0//EN
CALSCALE:GREGORIAN
METHOD:PUBLISH
X-ORIGINAL-URL:https://www.osltoday.org
X-WR-CALDESC:Events for OSL
REFRESH-INTERVAL;VALUE=DURATION:PT1H
X-Robots-Tag:noindex
X-PUBLISHED-TTL:PT1H
BEGIN:VTIMEZONE
TZID:America/Chicago
BEGIN:DAYLIGHT
TZOFFSETFROM:-0600
TZOFFSETTO:-0500
TZNAME:CDT
DTSTART:20230312T080000
END:DAYLIGHT
BEGIN:STANDARD
TZOFFSETFROM:-0500
TZOFFSETTO:-0600
TZNAME:CST
DTSTART:20231105T070000
END:STANDARD
END:VTIMEZONE
BEGIN:VEVENT
DTSTART;TZID=America/Chicago:20230308T180000
DTEND;TZID=America/Chicago:20230309T210000
DTSTAMP:20260421T050119
CREATED:20230224T180044Z
LAST-MODIFIED:20230224T180044Z
UID:5190-1678298400-1678395600@www.osltoday.org
SUMMARY:Discover the Healing Ministry of Jesus
DESCRIPTION:A 2-day event hosted by the OSL Pittsburgh Chapter \nDiscover the Healing Ministry of Jesus \nGuest Speaker: Rev. Josh Acton \nThe OSL Pittsburgh Chapter welcomes Rev. Josh Acton. Join us for 2 nights of community\, worship\, teaching and prayer as we seek the face of God for healing in various areas of our life. \nWednesday\, March 8\n6PM Potluck dinner and fellowship\n7PM A time of prayer\, worship\, teaching and discussion \nFollowing the teaching\, prayer ministers will be available to pray in small groups w/ anyone wanting to receive healing prayer. \nChung Home\n3414 East St.\, Pittsburgh\, PA 15214 \nThursday\, March 9\n7PM Join us again for a second night of prayer\, worship\, teaching\, discussion and individual prayer. \nThe Lazarus Center\n17 N Howard Ave\, Pittsburgh\, PA 152o2
URL:https://www.osltoday.org/event/discover-the-healing-ministry-of-jesus/
LOCATION:Chung Home\, 3414 East St.\, Pittsburgh\, PA\, 15214\, United States
ORGANIZER;CN="Angela Chung":MAILTO:ang.j.chung@gmail.com
END:VEVENT
BEGIN:VEVENT
DTSTART;TZID=America/Chicago:20230311T080000
DTEND;TZID=America/Chicago:20230311T170000
DTSTAMP:20260421T050119
CREATED:20221116T204946Z
LAST-MODIFIED:20221116T204946Z
UID:4963-1678521600-1678554000@www.osltoday.org
SUMMARY:Hearing God\, Healing Others
DESCRIPTION:“Hearing God\, Healing Others”\nDate: Saturday\, March 11 \nSpeaker: Rev. Josh Acton\n\nLocation: In-Person and Virtual \n\nAvon Lake Presbyterian Church\n32340 Electric Blvd.\nAvon Lake\, OH 44012 (Cleveland suburb)\n\nContact:\nCris Till\, (440)258-2568\noslriveroflove@gmail.com\nCost: In-Person: $25 includes Continental Breakfast and Hot Lunch\nVirtual: Free\, donations appreciated
URL:https://www.osltoday.org/event/hearing-god-healing-others/
LOCATION:Avon Lake Presbyterian Church\, 32340 Electric Boulevard\, Avon Lake\, OH\, 44012\, United States
ORGANIZER;CN="Cris Till":MAILTO:oslriveroflove@gmail.com
END:VEVENT
BEGIN:VEVENT
DTSTART;VALUE=DATE:20230316
DTEND;VALUE=DATE:20230319
DTSTAMP:20260421T050119
CREATED:20230119T163331Z
LAST-MODIFIED:20230119T164003Z
UID:5088-1678924800-1679183999@www.osltoday.org
SUMMARY:Healing Light of Christ Mission Retreat
DESCRIPTION:March 16-18\, 2023\n\nSpeaker: Rev. Charles Lockner\n\nHealing Light of Christ\nMission Retreat\n\nSt. Marguerite’s Retreat House\nConvent of St. John the Baptist\nMendham\, NJ\n\nemail for details: abjhealthyfun@gmail.com or cromwell172@comcast.net
URL:https://www.osltoday.org/event/healing-light-of-christ-mission-retreat-2/
LOCATION:St. Marguerite’s Retreat House\, 82 West Main Street\, Mendham\, NJ\, 07945\, United States
ORGANIZER;CN="BJ Adams":MAILTO:abjhealthyfun@gmail.com
END:VEVENT
BEGIN:VEVENT
DTSTART;TZID=America/Chicago:20230318T110000
DTEND;TZID=America/Chicago:20230318T150000
DTSTAMP:20260421T050119
CREATED:20230119T164853Z
LAST-MODIFIED:20230127T222455Z
UID:5098-1679137200-1679151600@www.osltoday.org
SUMMARY:Lenten Retreat: Create in Me a Clean Heart
DESCRIPTION:Charleston OSL (Order of St. Luke) announces: \nA Lenten Retreat\n“Create in me a Clean Heart” \nOn Zoom and In Person \nChurch of the Holy Cross\n2520 Middle Street\nSullivan’s Island\, South Carolina \nSaturday\, March 18\, 2023\n11 am to 3 pm EST \n\nOur focus will be to view Lent through the lens of repentance\,\nconfession and works of mercy.\nRetreat will feature teachings on the Lenten disciplines of prayer\,\nfasting and almsgiving\nNo fee to attend but donations gratefully accepted.\nRegister at: osl@oslcharleston.com\n\nOSL and non-OSL members from all churches and fellowships are invited to attend
URL:https://www.osltoday.org/event/lenten-retreat-create-in-me-a-clean-heart/
LOCATION:Zoom
ORGANIZER;CN="Mike Sabback":MAILTO:mss9326@aol.com
END:VEVENT
BEGIN:VEVENT
DTSTART;TZID=America/Chicago:20230318T130000
DTEND;TZID=America/Chicago:20230318T150000
DTSTAMP:20260421T050119
CREATED:20230131T172529Z
LAST-MODIFIED:20230316T194602Z
UID:5140-1679144400-1679151600@www.osltoday.org
SUMMARY:Saturday Speaker Event for 20s/30s/40s (on Zoom)
DESCRIPTION:Saturday Speaker Event for 20s/30s/40s (on Zoom)\nSaturday\, March 18 from 1-3pm ET\n \nPrayer & Peace\n\nSpeakers: Rev. Dr. Benjamin McEntire & Rev. Dr. Sharon Lewis\nJoin us for a time of learning\, prayer\, and fellowship.  Topics will include praying for inner healing related to anxiety\, balancing the various aspects of life\, and managing pressure to perform at job/volunteering/roles in the family.  This is an interactive Zoom program open to anyone in the 20s/30s/40s age group (OSL member or not).  This is a great opportunity to invite friends and family in this age group to come and see what OSL is all about!\n \nThis program is free of charge.\n \nPlease RSVP here:  Register Here!\n \nUpcoming Dates for the 20s/30s/40s:\nSaturday Speaker Events on Sat\, March 18 and Sat\, June 10\nMonthly small groups for fellowship and prayer (2nd Mon evening at 8pm ET)\n \nAnyone in the 20s/30s/40s age group is welcome!\n \nFind out more about our community:  https://osltoday.org/20s30s40scommunity/\nAs Christians who are members of OSL\, we recognize only one source of healing: the triune God (Father\, Son\, and Holy Spirit) who perfectly revealed his healing power in Jesus Christ\, the Son of God\, our Lord and Savior.
URL:https://www.osltoday.org/event/saturday-speaker-event-for-20s-30s-40s-on-zoom/
LOCATION:Zoom
ORGANIZER;CN="Laura Sinclair":MAILTO:nadoffice@osltoday.org
END:VEVENT
BEGIN:VEVENT
DTSTART;TZID=America/Chicago:20230330T080000
DTEND;TZID=America/Chicago:20230330T170000
DTSTAMP:20260421T050119
CREATED:20230330T164401Z
LAST-MODIFIED:20230330T164434Z
UID:5275-1680163200-1680195600@www.osltoday.org
SUMMARY:Healing Winds Conference
DESCRIPTION:Speaker: Rev. Dr. Russ Parker \nLake Junaluska Conference & Retreat Center\nWaynesville\, NC \nSept 29-Oct 1\, 2023\nRegistration Opens June 1 \nFor Information on Registration Instructions\, Dr. Parker\, Schedule\, and Workshops go to\nHealing Winds website at https://healingwindsosl.org \nor contact:\nArt Mack (828) 697-7604\nmackar4264@yahoo.com \nKay Covode (828) 389-8384\nsxbcovode@hotmail.com
URL:https://www.osltoday.org/event/healing-winds-conference/
LOCATION:FL
ORGANIZER;CN="Art Mack":MAILTO:mackar4264@yahoo.com
END:VEVENT
END:VCALENDAR