BEGIN:VCALENDAR
VERSION:2.0
PRODID:-//OSL - ECPv6.15.4//NONSGML v1.0//EN
CALSCALE:GREGORIAN
METHOD:PUBLISH
X-WR-CALNAME:OSL
X-ORIGINAL-URL:https://www.osltoday.org
X-WR-CALDESC:Events for OSL
REFRESH-INTERVAL;VALUE=DURATION:PT1H
X-Robots-Tag:noindex
X-PUBLISHED-TTL:PT1H
BEGIN:VTIMEZONE
TZID:America/Chicago
BEGIN:DAYLIGHT
TZOFFSETFROM:-0600
TZOFFSETTO:-0500
TZNAME:CDT
DTSTART:20240310T080000
END:DAYLIGHT
BEGIN:STANDARD
TZOFFSETFROM:-0500
TZOFFSETTO:-0600
TZNAME:CST
DTSTART:20241103T070000
END:STANDARD
END:VTIMEZONE
BEGIN:VTIMEZONE
TZID:America/New_York
BEGIN:DAYLIGHT
TZOFFSETFROM:-0500
TZOFFSETTO:-0400
TZNAME:EDT
DTSTART:20240310T070000
END:DAYLIGHT
BEGIN:STANDARD
TZOFFSETFROM:-0400
TZOFFSETTO:-0500
TZNAME:EST
DTSTART:20241103T060000
END:STANDARD
END:VTIMEZONE
BEGIN:VTIMEZONE
TZID:America/Indiana/Indianapolis
BEGIN:DAYLIGHT
TZOFFSETFROM:-0500
TZOFFSETTO:-0400
TZNAME:EDT
DTSTART:20240310T070000
END:DAYLIGHT
BEGIN:STANDARD
TZOFFSETFROM:-0400
TZOFFSETTO:-0500
TZNAME:EST
DTSTART:20241103T060000
END:STANDARD
END:VTIMEZONE
BEGIN:VEVENT
DTSTART;TZID=America/Chicago:20240302T083000
DTEND;TZID=America/Chicago:20240302T153000
DTSTAMP:20260420T071538
CREATED:20240115T172959Z
LAST-MODIFIED:20240115T172959Z
UID:6228-1709368200-1709393400@www.osltoday.org
SUMMARY:Restoring God's Blessing
DESCRIPTION:Restoring God’s Blessing\nMarch 2nd\, 8:30am – 3:30pm \nSpeaker: Rev. John Rice\nGuest Speaker: Ditsie Scobie \nRegistration open\, $25 (lunch and beverage included) \nSt. Edward Episcopal Church\n460 N Grandview Street\nMt. Dora\, FL 32757 \nContact: Mary Jane Smith\, anewmjs45@yahoo.com\n(352) 250-2434
URL:https://www.osltoday.org/event/restoring-gods-blessing/
LOCATION:St. Edwards Episcopal Church\, 460 N Grandview Street\, Mt. Dora\, FL\, 32757\, United States
ORGANIZER;CN="Mary Jane Smith":MAILTO:anewmjs45@yahoo.com
END:VEVENT
BEGIN:VEVENT
DTSTART;TZID=America/New_York:20240302T110000
DTEND;TZID=America/New_York:20240302T130000
DTSTAMP:20260420T071538
CREATED:20240110T195158Z
LAST-MODIFIED:20240110T200155Z
UID:6188-1709377200-1709384400@www.osltoday.org
SUMMARY:A Morning of Soaking and Healing Prayer – Zoom
DESCRIPTION:OSL South Carolina invites you to A Morning of Soaking and Healing Prayer\nSaturday\, March 2\, 11 AM to 1 PM ET \nJoin us for a morning of Soaking and Healing Prayer \nCome and receive a special touch from Jesus. Event will consist of praise and worship\, teaching\, response time (cross\, candles and communion)\, soaking and individual prayer sessions with trained prayer ministers. OSL members\, friends and guests are invited. \nTo Register: contact mss9326@aol.com or osl@oslcharleston.com
URL:https://www.osltoday.org/event/a-morning-of-soaking-and-healing-prayer-zoom/
LOCATION:Zoom
ORGANIZER;CN="Mike Sabback":MAILTO:mss9326@aol.com
END:VEVENT
BEGIN:VEVENT
DTSTART;TZID=America/Indiana/Indianapolis:20240307T110000
DTEND;TZID=America/Indiana/Indianapolis:20240307T120000
DTSTAMP:20260420T071538
CREATED:20240122T172700Z
LAST-MODIFIED:20240122T172700Z
UID:6263-1709809200-1709812800@www.osltoday.org
SUMMARY:A Lenten Call to Prayer
DESCRIPTION:“For my house will be called a house of prayer for all peoples” (Is 56:7) \nOSL Charleston invites you to: \nA Lenten Call to Prayer on Zoom \nEvery Thursday in Lent\n11 am to 12 Noon ET \n Join us for one hour of prayer\, praise and worship\, Word of God\, prayer\, and intercession. All OSL Members and friends are invited. \nContact Mike Sabback (mss9326@aol.com) for the Zoom link. \nLink will be the same for each weekly session and feel free to share with your friends.
URL:https://www.osltoday.org/event/a-lenten-call-to-prayer-5/
LOCATION:Zoom
ORGANIZER;CN="Mike Sabback":MAILTO:mss9326@aol.com
END:VEVENT
BEGIN:VEVENT
DTSTART;VALUE=DATE:20240308
DTEND;VALUE=DATE:20240311
DTSTAMP:20260420T071538
CREATED:20231218T152135Z
LAST-MODIFIED:20231218T152150Z
UID:6164-1709856000-1710115199@www.osltoday.org
SUMMARY:OSL Region 6 Conference
DESCRIPTION:OSL Region 6 Conference\nMarch 8-10\, 2024 \n“Changed from Glory to Glory”\nRev. Dr. Sharon Lewis & Amazing Love Healing Team \nLocation: Church of the Good Shepherd\n805 SE Ellsworth Rd.\nVancouver\, WA 98664 \nRegistration link open mid January at www.goodshepherdvancouver.org \nContact: OSL Region 6 Director Saran Warne at warne@comcast.net
URL:https://www.osltoday.org/event/osl-region-6-conference/
LOCATION:Church of the Good Shepherd\, 4947 NE Chouteau Dr\, Kansas City\, MO\, 64119\, United States
ORGANIZER;CN="Convener Saran Warne":MAILTO:warne@comcast.net
END:VEVENT
BEGIN:VEVENT
DTSTART;VALUE=DATE:20240308
DTEND;VALUE=DATE:20240311
DTSTAMP:20260420T071538
CREATED:20240118T170031Z
LAST-MODIFIED:20240118T170031Z
UID:6246-1709856000-1710115199@www.osltoday.org
SUMMARY:OSL Healing Weekend with Rev. Dr. Sharon Lewis
DESCRIPTION:OSL Healing Weekend with Rev. Dr. Sharon Lewis \nChanged from Glory to Glory\nMarch 8 – 10\, 2024 | Vancouver\, WA \nLocation: Church of the Good Shepherd\n805 SE Ellsworth Rd.\, Vancouver\, WA 98664\n360-892-7770\nwww.goodshepherdvancouver.org\nRegistration $30\, includes breakfast & lunch \nFriday\, March 8th\n7PM–9PM: “Kick-off” worship and teaching in Good Shepherd Sanctuary\nTrained OSL prayer teams will be available Friday night. \nSaturday\, March 9th (registration required) \nAll day program from 9AM–4PM\n8:30AM–9AM: Registration tables open\n9AM: Program begins in Sanctuary with worship led by Shepherd Song\n12PM – 1PM: Lunch\n1PM: 3 teachings by Rev. Dr. Sharon Lewis\n3PM: Closing Eucharist\nTrained OSL prayer teams will be available on Saturday \nSunday\, March 10th \nRev. Dr. Sharon Lewis will be the guest preacher at both the Good Shepherd 8:30am and 11am services \n  \n 
URL:https://www.osltoday.org/event/osl-healing-weekend-with-rev-dr-sharon-lewis/
LOCATION:Church of the Good Shepherd\, 4947 NE Chouteau Dr\, Kansas City\, MO\, 64119\, United States
ORGANIZER;CN="Jamie St. Clair":MAILTO:registrar@goodshepherdvancouver.org
END:VEVENT
BEGIN:VEVENT
DTSTART;TZID=America/Indiana/Indianapolis:20240314T110000
DTEND;TZID=America/Indiana/Indianapolis:20240314T120000
DTSTAMP:20260420T071538
CREATED:20240122T172734Z
LAST-MODIFIED:20240122T172734Z
UID:6265-1710414000-1710417600@www.osltoday.org
SUMMARY:A Lenten Call to Prayer
DESCRIPTION:“For my house will be called a house of prayer for all peoples” (Is 56:7) \nOSL Charleston invites you to: \nA Lenten Call to Prayer on Zoom \nEvery Thursday in Lent\n11 am to 12 Noon ET \n Join us for one hour of prayer\, praise and worship\, Word of God\, prayer\, and intercession. All OSL Members and friends are invited. \nContact Mike Sabback (mss9326@aol.com) for the Zoom link. \nLink will be the same for each weekly session and feel free to share with your friends.
URL:https://www.osltoday.org/event/a-lenten-call-to-prayer-6/
LOCATION:Zoom
ORGANIZER;CN="Mike Sabback":MAILTO:mss9326@aol.com
END:VEVENT
BEGIN:VEVENT
DTSTART;TZID=America/Indiana/Indianapolis:20240321T110000
DTEND;TZID=America/Indiana/Indianapolis:20240321T120000
DTSTAMP:20260420T071538
CREATED:20240122T172807Z
LAST-MODIFIED:20240122T172807Z
UID:6267-1711018800-1711022400@www.osltoday.org
SUMMARY:A Lenten Call to Prayer
DESCRIPTION:“For my house will be called a house of prayer for all peoples” (Is 56:7) \nOSL Charleston invites you to: \nA Lenten Call to Prayer on Zoom \nEvery Thursday in Lent\n11 am to 12 Noon ET \n Join us for one hour of prayer\, praise and worship\, Word of God\, prayer\, and intercession. All OSL Members and friends are invited. \nContact Mike Sabback (mss9326@aol.com) for the Zoom link. \nLink will be the same for each weekly session and feel free to share with your friends.
URL:https://www.osltoday.org/event/a-lenten-call-to-prayer-7/
LOCATION:Zoom
ORGANIZER;CN="Mike Sabback":MAILTO:mss9326@aol.com
END:VEVENT
BEGIN:VEVENT
DTSTART;TZID=America/Indiana/Indianapolis:20240328T110000
DTEND;TZID=America/Indiana/Indianapolis:20240328T120000
DTSTAMP:20260420T071538
CREATED:20240122T172834Z
LAST-MODIFIED:20240122T172834Z
UID:6269-1711623600-1711627200@www.osltoday.org
SUMMARY:A Lenten Call to Prayer
DESCRIPTION:“For my house will be called a house of prayer for all peoples” (Is 56:7) \nOSL Charleston invites you to: \nA Lenten Call to Prayer on Zoom \nEvery Thursday in Lent\n11 am to 12 Noon ET \n Join us for one hour of prayer\, praise and worship\, Word of God\, prayer\, and intercession. All OSL Members and friends are invited. \nContact Mike Sabback (mss9326@aol.com) for the Zoom link. \nLink will be the same for each weekly session and feel free to share with your friends.
URL:https://www.osltoday.org/event/a-lenten-call-to-prayer-8/
LOCATION:Zoom
ORGANIZER;CN="Mike Sabback":MAILTO:mss9326@aol.com
END:VEVENT
END:VCALENDAR