BEGIN:VCALENDAR
VERSION:2.0
PRODID:-//OSL - ECPv6.15.4//NONSGML v1.0//EN
CALSCALE:GREGORIAN
METHOD:PUBLISH
X-ORIGINAL-URL:https://www.osltoday.org
X-WR-CALDESC:Events for OSL
REFRESH-INTERVAL;VALUE=DURATION:PT1H
X-Robots-Tag:noindex
X-PUBLISHED-TTL:PT1H
BEGIN:VTIMEZONE
TZID:America/Indiana/Indianapolis
BEGIN:DAYLIGHT
TZOFFSETFROM:-0500
TZOFFSETTO:-0400
TZNAME:EDT
DTSTART:20240310T070000
END:DAYLIGHT
BEGIN:STANDARD
TZOFFSETFROM:-0400
TZOFFSETTO:-0500
TZNAME:EST
DTSTART:20241103T060000
END:STANDARD
END:VTIMEZONE
BEGIN:VEVENT
DTSTART;TZID=America/Indiana/Indianapolis:20241102T110000
DTEND;TZID=America/Indiana/Indianapolis:20241102T130000
DTSTAMP:20260419T184151
CREATED:20240908T231403Z
LAST-MODIFIED:20240908T231418Z
UID:6655-1730545200-1730552400@www.osltoday.org
SUMMARY:OSL South Carolina Morning of Soaking and Healing Prayer
DESCRIPTION:Join OSL South Carolina for a Morning of Soaking and Healing Prayer on Zoom \nSaturday\, November 2\, 2024\, 11 AM to 1 PM ET \nCome and receive a special touch from Jesus.  Event will include praise and worship\, teaching from the Word of God\, response time including cross\, candles and communion\, individual prayer in breakout rooms and soaking prayer. \nOSL members\, friends and guests are invited. \nTo register contact Mike Sabback (mss9326@aol.com) or osl@oslcharleston.com
URL:https://www.osltoday.org/event/osl-south-carolina-morning-of-soaking-and-healing-prayer/
LOCATION:Zoom
ORGANIZER;CN="Mike Sabback":MAILTO:mss9326@aol.com
END:VEVENT
BEGIN:VEVENT
DTSTART;TZID=America/Indiana/Indianapolis:20241116T093000
DTEND;TZID=America/Indiana/Indianapolis:20241116T163000
DTSTAMP:20260419T184151
CREATED:20241021T174529Z
LAST-MODIFIED:20241021T193447Z
UID:6726-1731749400-1731774600@www.osltoday.org
SUMMARY:Restoring the Soul
DESCRIPTION:  \n  \n  \n  \n  \n  \n  \n  \n  \n  \n  \n  \n  \n  \nOSL Healing Grace Community presents\nRestoring the Soul\nA Conference on Healing \nNovember 16\, 2024\n9:30AM – 4:30PM \nKeynote speaker: The Rev. Dr. Sharon Lewis \nGood Samaritan Church\n4955 Alton Tucker Blvd.\nSugar Hill\, GA 30518 \nRegister at goodsamaritanbuford.com
URL:https://www.osltoday.org/event/restoring-the-soul/
LOCATION:Good Samaritan Church\, 4955 Alton Tucker Blvd\, Sugar Hill\, GA\, 30518\, United States
END:VEVENT
BEGIN:VEVENT
DTSTART;TZID=America/Indiana/Indianapolis:20241123T090000
DTEND;TZID=America/Indiana/Indianapolis:20241123T150000
DTSTAMP:20260419T184151
CREATED:20241105T174408Z
LAST-MODIFIED:20241114T194146Z
UID:6761-1732352400-1732374000@www.osltoday.org
SUMMARY:Created for Connection
DESCRIPTION:  \n  \n  \n  \n  \n  \n  \n  \n  \n  \n  \n  \nCreated for Connection – Listening to God in Prayer \nNovember 23\, 2024 / 9:00AM EST via Zoom \nClick here for the agenda. \nPresenter: The Rev. Tara Shepley\nRegional Director\, OSL Region 3A\nOSL Board Member \nClick here to register. \nMore information: Myrtle Harris\n876.877.9868\, osldirectorja@gmail.com
URL:https://www.osltoday.org/event/created-for-connection/
LOCATION:Zoom
ORGANIZER;CN="Myrtle Harris":MAILTO:osldirectorja@gmail.com
END:VEVENT
END:VCALENDAR