BEGIN:VCALENDAR
VERSION:2.0
PRODID:-//OSL - ECPv6.15.4//NONSGML v1.0//EN
CALSCALE:GREGORIAN
METHOD:PUBLISH
X-WR-CALNAME:OSL
X-ORIGINAL-URL:https://www.osltoday.org
X-WR-CALDESC:Events for OSL
REFRESH-INTERVAL;VALUE=DURATION:PT1H
X-Robots-Tag:noindex
X-PUBLISHED-TTL:PT1H
BEGIN:VTIMEZONE
TZID:America/Indiana/Indianapolis
BEGIN:DAYLIGHT
TZOFFSETFROM:-0500
TZOFFSETTO:-0400
TZNAME:EDT
DTSTART:20250309T070000
END:DAYLIGHT
BEGIN:STANDARD
TZOFFSETFROM:-0400
TZOFFSETTO:-0500
TZNAME:EST
DTSTART:20251102T060000
END:STANDARD
END:VTIMEZONE
BEGIN:VEVENT
DTSTART;TZID=America/Indiana/Indianapolis:20250306T110000
DTEND;TZID=America/Indiana/Indianapolis:20250306T120000
DTSTAMP:20260419T124013
CREATED:20250131T193526Z
LAST-MODIFIED:20250131T193526Z
UID:6916-1741258800-1741262400@www.osltoday.org
SUMMARY:OSL Lenten Call to Prayer on Zoom
DESCRIPTION:OSL South Carolina will host a one-hour “Lenten Call to Prayer” on Zoom every Thursday in Lent beginning on Thursday\, March 6\, 11 AM to 12 Noon ET. \nThe event will feature Praise and Worship\, Sharing the Word of God\, prayer for one another\, for our nation\, and for the world as well as small group prayer in breakout rooms. \nTo register\, contact Mike Sabback (mss9326@aol.com) or osl@oslcharleston.com. \nThe Zoom link is the same for all seven sessions and may be shared with friends\, family and those in your prayer/fellowship groups
URL:https://www.osltoday.org/event/osl-lenten-call-to-prayer-on-zoom/
LOCATION:Zoom
ORGANIZER;CN="Mike Sabback":MAILTO:mss9326@aol.com
END:VEVENT
BEGIN:VEVENT
DTSTART;TZID=America/Indiana/Indianapolis:20250313T110000
DTEND;TZID=America/Indiana/Indianapolis:20250313T120000
DTSTAMP:20260419T124013
CREATED:20250131T193658Z
LAST-MODIFIED:20250131T193658Z
UID:6918-1741863600-1741867200@www.osltoday.org
SUMMARY:OSL Lenten Call to Prayer on Zoom
DESCRIPTION:OSL South Carolina will host a one-hour “Lenten Call to Prayer” on Zoom every Thursday in Lent beginning on Thursday\, March 6\, 11 AM to 12 Noon ET. \nThe event will feature Praise and Worship\, Sharing the Word of God\, prayer for one another\, for our nation\, and for the world as well as small group prayer in breakout rooms. \nTo register\, contact Mike Sabback (mss9326@aol.com) or osl@oslcharleston.com. \nThe Zoom link is the same for all seven sessions and may be shared with friends\, family and those in your prayer/fellowship groups
URL:https://www.osltoday.org/event/osl-lenten-call-to-prayer-on-zoom-2/
LOCATION:Zoom
ORGANIZER;CN="Mike Sabback":MAILTO:mss9326@aol.com
END:VEVENT
BEGIN:VEVENT
DTSTART;VALUE=DATE:20250315
DTEND;VALUE=DATE:20250316
DTSTAMP:20260419T124013
CREATED:20241114T185524Z
LAST-MODIFIED:20241114T193900Z
UID:6775-1741996800-1742083199@www.osltoday.org
SUMMARY:Time to Heal with Judith MacNutt
DESCRIPTION:TIME TO HEAL \na day-long OSL Healing Conference\nwith Judith MacNutt\n\nSt. Mary’s Episcopal Church\, Bonita Springs\, FL
URL:https://www.osltoday.org/event/save-the-date-healing-conference-with-judith-macnutt/
LOCATION:St. Mary’s Episcopal Church\, 9801 Bonita Beach Rd SE\, Bonita Springs\, FL\, 34135\, United States
ORGANIZER;CN="Cherril Cregar":MAILTO:Cherrillcregar@gmail.com
END:VEVENT
END:VCALENDAR